BEGIN:VCALENDAR
VERSION:2.0
PRODID:-//STRAWANZERIN - ECPv4.9.5//NONSGML v1.0//EN
CALSCALE:GREGORIAN
METHOD:PUBLISH
X-WR-CALNAME:STRAWANZERIN
X-ORIGINAL-URL:https://www.strawanzerin.at
X-WR-CALDESC:Veranstaltungen im STRAWANZERIN
BEGIN:VTIMEZONE

END:VTIMEZONE
BEGIN:VEVENT
DTSTART;TZID="Europe/Vienna":19700101T000000
DTEND;TZID="Europe/Vienna":20250917T220000
DTSTAMP:20260423T151704
CREATED:20250828T082143Z
LAST-MODIFIED:20250828T082143Z
UID:109184-0-1758146400@www.strawanzerin.at
SUMMARY:Reichtum statt Kapital. Anupama Kundoo
DESCRIPTION:Eröffnung der Ausstellung\nWas\, wenn Architektur kein Instrument des Kapitals wäre? Die Ausstellung „Reichtum statt Kapital“ präsentiert die Arbeit der in Indien geborenen Architektin Anupama Kundoo als Manifest für eine andere Architektur. Mit lokalen Ressourcen entwirft Kundoo Gebäude von außerordentlicher Schönheit\, die Sorge tragen für Mensch und Planet. \nWeltweit werden von der Bauindustrie Natur und Arbeitskräfte ausgebeutet. Gleichzeitig können sich viele Menschen ihre Wohnungen nicht mehr leisten. Wie konnte das Bauen so zerstörerisch werden und was können Architekt* innen dem entgegensetzen? Reichtum liegt in Anupama Kundoos Projekten nicht in edlen Materialien und perfektionierten Industrieprodukten\, sondern in der neuartigen Verwendung von Ressourcen\, die lokal im Überfluss vorhanden sind. Ihre Projekte sind gebautes Wissen für ein neues Verhältnis von Zeit\, Geld und Material. Die Ausstellung macht Kundoos Arbeit sinnlich erlebbar und ist ein Aufruf für eine andere Architektur. \nIm Begleitband „Abundance Not Capital. The Lively Architecture of Anupama Kundoo“ vertiefen Angelika Fitz und Elke Krasny den Weg der „Fülle“ als Widerstand gegen das „Nie genug“. Essays internationaler Autor*innen kontextualisieren Kundoos Werk. The MIT Press\, 2025. \nEintrittspreise\nEintritt frei \nZur Eröffnung sprechen:\nAngelika Fitz\, Direktorin Az W\nElke Krasny\, Kuratorin\nAnupama Kundoo\, Architektin\nIm Anschluss an die Eröffnung Sommerfest! \nRückfragen\nCorinna Glatzer\n+43-1-522 31 15-15\noffice@azw.at \n
URL:https://www.strawanzerin.at/termin/reichtum-statt-kapital-anupama-kundoo-2/
LOCATION:Architekturzentrum Wien\, Museumsplatz 1\, 1070 Wien\, 1070\, Österreich
CATEGORIES:Ausstellung
GEO:48.2026499;16.3591421
X-APPLE-STRUCTURED-LOCATION;VALUE=URI;X-ADDRESS=Architekturzentrum Wien Museumsplatz 1 1070 Wien 1070 Österreich;X-APPLE-RADIUS=500;X-TITLE=Museumsplatz 1:geo:16.3591421,48.2026499
END:VEVENT
BEGIN:VEVENT
DTSTART;TZID="Europe/Vienna":20240905T100000
DTEND;TZID="Europe/Vienna":20250126T180000
DTSTAMP:20260423T151704
CREATED:20240902T090134Z
LAST-MODIFIED:20240902T090134Z
UID:102466-1725530400-1737914400@www.strawanzerin.at
SUMMARY:Aleksandra Domanović
DESCRIPTION:Aleksandra Domanović konzentriert sich in ihrer Arbeit auf die Überschneidungen zwischen Technologie\, Geschichte und Kultur und untersucht\, wie diese unser Verständnis von Identität und aktueller Gesellschaft prägen. Die Ausstellung vereint Skulpturen\, Videos\, Drucke\, Fotografie und digitale Medien aus den letzten achtzehn Jahren. Mit über vierzig Werken\, darunter neue Auftragsarbeiten\, beleuchtet sie die Entwicklung einer spielerischen und zugleich kritischen Praxis\, die von der Informationskultur im Post-Internet-Zeitalter geprägt ist. Es ist die erste Ausstellung von Domanovićs Arbeiten in Österreich und die größte Präsentation ihres Werks bislang. \nEröffnung am 04.09.2024 ab 18:00 mit einem Gespräch zwischen Aleksandra Domanović und Carson Chan (MoMa) \n
URL:https://www.strawanzerin.at/termin/aleksandra-domanovic/
LOCATION:Kunsthalle Wien (Museumsquartier)\, Museumsplatz 1\, Wien\, Wien\, 1070\, Österreich
CATEGORIES:Ausstellung,Kunst/Kultur,Wien
ATTACH;FMTTYPE=image/jpeg:https://www.strawanzerin.at/wp-content/uploads/2024/08/5_DOMANOVIC-sueno-scaled.jpg
GEO:48.2034986;16.3591175
X-APPLE-STRUCTURED-LOCATION;VALUE=URI;X-ADDRESS=Kunsthalle Wien (Museumsquartier) Museumsplatz 1 Wien Wien 1070 Österreich;X-APPLE-RADIUS=500;X-TITLE=Museumsplatz 1:geo:16.3591175,48.2034986
END:VEVENT
BEGIN:VEVENT
DTSTART;TZID="Europe/Vienna":20240916T190000
DTEND;TZID="Europe/Vienna":20241013T220000
DTSTAMP:20260423T151704
CREATED:20240814T162826Z
LAST-MODIFIED:20240814T162826Z
UID:101830-1726513200-1728856800@www.strawanzerin.at
SUMMARY:20 Jahre kunst-projekte Jubiläumsausstellung
DESCRIPTION:Jubiläumsvernissage 20 Kunstwerke aus 2 Jahrzehnten. \n
URL:https://www.strawanzerin.at/termin/20-jahre-kunst-projekte-jubilaeumsausstellung/
LOCATION:Cafe Club International C.I.\, Payergasse 14\, Wien\, Wien\, 1160\, Österreich
CATEGORIES:Ausstellung,Gratis,Kunst/Kultur,Wien
ATTACH;FMTTYPE=image/jpeg:https://www.strawanzerin.at/wp-content/uploads/2024/08/2024_09_16-Jubilaeumsausstellungw.jpg
ORGANIZER;CN="Ursula%20Pfeiffer%20verein%20%3A%3Akunst-projekte%3A%3A%20der%20%5Bgalerie%5Dstudio38%20zvr%20123612155":MAILTO:office@galeriestudio38.at
END:VEVENT
BEGIN:VEVENT
DTSTART;VALUE=DATE:20240918
DTEND;VALUE=DATE:20240930
DTSTAMP:20260423T151704
CREATED:20240902T085934Z
LAST-MODIFIED:20240902T085934Z
UID:102552-1726632000-1727582399@www.strawanzerin.at
SUMMARY:FAVORITE FALL: Zehn Tage Kunst und Kultur im Zehnten
DESCRIPTION:FAVORITE FALL: Zehn Tage Kunst und Kultur im Zehnten\nVon 18. bis 28. September 2024 feiert das Kulturfestival die Vielfalt und Kreativität in Favoriten \nEin eigenes Kulturfestival für Favoriten: Anlässlich seines 150-jährigen Jubiläums lädt FAVORITE FALL zehn Tage lang dazu ein\, den 10. Bezirk durch Kunst und Kultur neu zu entdecken. Ausgehend von der Brotfabrik Wien wird von 18. bis 28. September ganz Favoriten zur Bühne und überrascht mit rund sechzig verschiedenen Programmpunkten und aufregenden Highlights. \nVon 18. bis 28. September 2024 wird in der Brotfabrik Wien\, im Sonnwendviertel und am Zukunftshof in Rothneusiedl sowie an vielen Schauplätzen dazwischen ein breites Programm für alle Altersgruppen geboten. Über dreißig kooperierende Institutionen\, Vereine und Initiativen und rund 180 Künstler:innen bieten rund sechzig Programmpunkte bei mehrheitlich freiem Eintritt. Hervorgegangen ist das Festival aus dem beliebten Herbstfest\, das bereits in den vergangenen Jahren in der Brotfabrik stattgefunden hat. Es richtet sich an alle Menschen in und um Favoriten und alle Interessierten von außerhalb\, die diesen vielfältigen Bezirk durch Kunst und Kulter kennenlernen möchten. \nKultur im Bezirk: Von der Brotfabrik bis zum Zukunftshof\nDen Auftakt des Festivals bildet am Mittwoch\, den 18.09\, das Open-Air-Screening des preisgekrönten Dokumentarfilms “FAVORITEN” von Ruth Beckermann am Columbusplatz. Am Tag darauf findet im LOT in der Brotfabrik ein Doppel-Release-Konzert von GLUT und Cyan Flex statt. Anschließend folgt dort das dreitägige Opening-Wochenende in der Brotfabrik: Nachdem am Freitag die Critical Mass vom Schwarzenbergplatz in die Brotfabrik führt\, warten dort ein weiteres Open-Air-Screening mit dem Cycle Cinema Club\, Ausstellungseröffnungen in den ansässigen Galerien und die große OPENING Party mit dem stadtbekannten Techno Kollektiv UnLockMe auf die Besucher:innen. Samstag und Sonntag bietet das Festival offene Türen in alle Kunsträume\, Führungen\, aktivistische Stände\, einen Kunsthandwerksmarkt\, feinste Kulinarik\, Zirkus und Theater sowie viele künstlerische Überraschungen. Musikalische Höhepunkte sind unter anderem Baba Yaga\, Tilia\, doubleMe3\, Fluid Quinted\, Cay Taylan\, sowie Auftritte von einem Gospelchor und der Opernsängerin Natalia Hurst. \nAbschluss mit Day-Rave und Kürbisfest\nUnter der Woche verteilt sich das Programm über den gesamten Bezirk. Ein besonderer Höhepunkt ist hierbei die Tanzperformance “IN MEDEAS RES” im Liquid Loft am Donnerstag\, den 26.09.\, direkt im Anschluss an eine Lichtshow am Columbusplatz. Am Freitag\, dem 27.09.\, gipfeln die Festivitäten in einem Grätzlfest im Sonnwendviertel\, gefolgt vom Spiral Bike Concert der RADPerformance\, das von der Südbahnhofbrücke aus startet. Am Samstag\, dem 28.09.\, führt ein Soundride vom Sonnwendviertel direkt zum Zukunftshof\, wo das große Finale stattfindet. Am letzten Tag erwartet die Besucher:innen dort ein Kinderprogramm und ein Flohmarkt\, Live-Musik\, eine Lecture-Performance\, eine Ausstellung und feinste Kulinarik rund um den Kürbis. Um 16 Uhr beginnt der Day-Rave in Kooperation mit Kosmos Kuriosum\, der zum Abschluss des Festivals noch einmal richtig einheizt. \nKünstlerische Hörspaziergänge: Journalismus trifft Kunst\nEin weiteres Highlight des Festivals sind drei künstlerische Hörspaziergänge in Zusammenarbeit des Kulturvereins ECHOLOT und des Medien-Startups INSELMILIEU Reportage\, die tief in die Vergangenheit und Kultur des Bezirks eintauchen lassen. Dabei werden Themen wie die mediale Berichterstattung über Favoriten und Vorurteile gegenüber den Jugendlichen des Bezirks\, die Arisierung der Ankerbrotfabrik sowie die Geschichte des Böhmischen Praters und der Ziegelböhm behandelt. Die multimedialen ARTWALKs finden vor\, während und nach dem Festival im September statt\, Tickets sind unter www.lot.wien/artwalk separat erhältlich. \nAlle Infos und das Programm gibt es unter https://www.favoritefall.at/! \n
URL:https://www.strawanzerin.at/termin/favorite-fall-zehn-tage-kunst-und-kultur-im-zehnten/
LOCATION:Brotfabrik\, Absberggasse 27\, Wien\, 10.Bezirk\, 1100 Wien\, Österreich
CATEGORIES:Fest,Gratis,Kinderkultur,Kunst/Kultur,Musik,Tanz,Wien
ATTACH;FMTTYPE=image/jpeg:https://www.strawanzerin.at/wp-content/uploads/2024/08/Sujet-3_fff_web_story.jpg
ORGANIZER;CN="FAVORITE%20FALL":MAILTO:favoritefall@brotfabrik.wien
END:VEVENT
BEGIN:VEVENT
DTSTART;TZID="Europe/Vienna":20240920T200000
DTEND;TZID="Europe/Vienna":20241018T220000
DTSTAMP:20260423T151704
CREATED:20240814T162356Z
LAST-MODIFIED:20240814T162356Z
UID:101862-1726862400-1729288800@www.strawanzerin.at
SUMMARY:Krimilesung mit begleitender Kunstausstellung!
DESCRIPTION:bilder.worte.töne Gabriele Bina (Ga Bina) – „Wasserspiele & mehr“. Malerei\,\nMonika Schrottmeyer – „Das Haus am Meer“. Kriminalroman. \n
URL:https://www.strawanzerin.at/termin/krimilesung-mit-begleitender-kunstausstellung/
LOCATION:Osteria Allora\, Wallensteinplatz 5-6\, Wien\, Wien\, 1200\, Österreich
CATEGORIES:Ausstellung,Deutsch,Gratis,Kunst/Kultur,Literatur,Wien
ATTACH;FMTTYPE=image/jpeg:https://www.strawanzerin.at/wp-content/uploads/2024/08/2024_09_20-Vernissage-Lesungw-2.jpg
ORGANIZER;CN="Ursula%20Pfeiffer%20verein%20%3A%3Akunst-projekte%3A%3A%20der%20%5Bgalerie%5Dstudio38%20zvr%20123612155":MAILTO:office@galeriestudio38.at
GEO:48.2295781;16.3715666
X-APPLE-STRUCTURED-LOCATION;VALUE=URI;X-ADDRESS=Osteria Allora Wallensteinplatz 5-6 Wien Wien 1200 Österreich;X-APPLE-RADIUS=500;X-TITLE=Wallensteinplatz 5-6:geo:16.3715666,48.2295781
END:VEVENT
BEGIN:VEVENT
DTSTART;TZID="Europe/Vienna":20240923T160000
DTEND;TZID="Europe/Vienna":20240923T200000
DTSTAMP:20260423T151704
CREATED:20240913T124012Z
LAST-MODIFIED:20240913T124012Z
UID:103307-1727107200-1727121600@www.strawanzerin.at
SUMMARY:Lernen ohne Grenzen - Messe der Wr. Erwachsenenbildung
DESCRIPTION:Diese Messe der Wiener Erwachsenenbildung stellt Inklusion und Teilhabe ins Zentrum. Es werden Workshops\, Vorträge und Diskussionsrunden angeboten\, die sich mit dem lebenslangen Lernen und der Förderung von Chancengleichheit auseinandersetzen. Besonders hervorgehoben wird die Bedeutung von Bildung als Instrument der gesellschaftlichen Integration und persönlichen Weiterentwicklung. Ziel ist es\, allen Menschen Zugang zu hochwertigen Bildungsangeboten zu ermöglichen\, unabhängig von ihrem sozialen\, kulturellen oder ökonomischen Hintergrund.\nInfos und Anmeldung: https://www.ash-forum.at/site/veranstaltungen/eventman.event/175.html \n
URL:https://www.strawanzerin.at/termin/lernen-ohne-grenzen-messe-der-wr-erwachsenenbildung/
LOCATION:Arkadenhof im Wiener Rathaus\, Lichtenfelsgasse 2\, Wien\, Wien\, 1010\, Österreich
CATEGORIES:Bildung
ATTACH;FMTTYPE=image/jpeg:https://www.strawanzerin.at/wp-content/uploads/2024/09/IMG_20230901_155046_HDR.jpg
END:VEVENT
BEGIN:VEVENT
DTSTART;TZID="Europe/Vienna":20240923T173000
DTEND;TZID="Europe/Vienna":20240923T193000
DTSTAMP:20260423T151704
CREATED:20240921T185216Z
LAST-MODIFIED:20240921T185216Z
UID:103671-1727112600-1727119800@www.strawanzerin.at
SUMMARY:Demokratisch streiten? Echt jetzt?
DESCRIPTION:Raus aus der Bubble\, rein in den Diskurs!\nWer kennt das nicht? Austausch findet allzu oft in Echokammern statt; also mit Menschen\, die ohnehin gleich oder ähnlich denken. Doch ist das auf Dauer gut für die Gesellschaft? Eher nicht. Daher: Lass uns miteinander ins Gespräch kommen\, aber richtig!\nIm Rahmen von kostenlosen Workshops schaffen wir einen Raum für konstruktive Streitkultur\, um Demokratie interaktiv\, bunt und lebendig zu erfahren. Streiten ist erlaubt und Meinungsverschiedenheiten erwünscht! Um wieder richtig streiten zu lernen sind Neugierde und gegenseitige Anerkennung wichtig. Die Workshops werden von Sapere Aude gehalten und moderiert. \nDer Workshop ist kostenlos und alle sind eingeladen mitzumachen. Um Anmeldung wird gebeten (polycollege@vhs.at).\nGefördert aus Mitteln der Österreichischen Gesellschaft für Politische Bildung. Der Workshop wird von Sapere Aude gehalten und moderiert. \n
URL:https://www.strawanzerin.at/termin/demokratisch-streiten-echt-jetzt-3/
LOCATION:VHS polycollege Stöbergasse\, Stöbergasse 11\, Wien\, 1050\, Österreich
CATEGORIES:Gratis,Wien,Workshop
ATTACH;FMTTYPE=image/jpeg:https://www.strawanzerin.at/wp-content/uploads/2024/09/DemokratischStreiten-scaled.jpg
ORGANIZER;CN="Die%20Wiener%20Volkshochschulen":MAILTO:petra.rath@vhs.at
END:VEVENT
BEGIN:VEVENT
DTSTART;TZID="Europe/Vienna":20240923T190000
DTEND;TZID="Europe/Vienna":20240923T210000
DTSTAMP:20260423T151704
CREATED:20240826T092839Z
LAST-MODIFIED:20240826T092839Z
UID:102158-1727118000-1727125200@www.strawanzerin.at
SUMMARY:AREVO - Offbeat-Wienerlied
DESCRIPTION:AREVO – Wiens orangeste Ska-Band – geht neue Wege. Das Wienerlied im Herzen\, den Offbeat in den Fingern ist klar: wir spielen Offbeat-Wienerlied! Unser erstes Konzert im neuen Stil spielen wir im herrlichen Wienhaus Sittl. Wir freuen uns auf alle\, die uns bei diesen ersten Schritten begleiten!\nSitzplätze sind begrenzt. Reservierung wird empfohlen. \n
URL:https://www.strawanzerin.at/termin/arevo-offbeat-wienerlied/
LOCATION:Weinhaus Sittl\, Pelikanstüberl\, Lerchenfelder Gürtel 51\, Wien\, Wien\, 1160\, Österreich
CATEGORIES:freie Spende,Musik,Wien
ORGANIZER;CN="AREVO":MAILTO:andi@arevo.at
GEO:48.2105458;16.3385495
X-APPLE-STRUCTURED-LOCATION;VALUE=URI;X-ADDRESS=Weinhaus Sittl Pelikanstüberl Lerchenfelder Gürtel 51 Wien Wien 1160 Österreich;X-APPLE-RADIUS=500;X-TITLE=Lerchenfelder Gürtel 51:geo:16.3385495,48.2105458
END:VEVENT
BEGIN:VEVENT
DTSTART;TZID="Europe/Vienna":20240923T200000
DTEND;TZID="Europe/Vienna":20241109T200000
DTSTAMP:20260423T151704
CREATED:20240916T182940Z
LAST-MODIFIED:20240916T182940Z
UID:103452-1727121600-1731182400@www.strawanzerin.at
SUMMARY:JEKYLL & HYDE & ALLE ÄNGSTLICHEN BEDENKEN von Dorn°Bering
DESCRIPTION:Ein humorvoll-abgründiger Theaterabend für Einzelgänger und Unzertrennliche. Für Hin-und-Her-Gerissene und Eindimensionale. Für Doppelgänger und Alter Egos. Für Böse und Gute gleichermaßen. \nLink Details und Tickets\nhttps://tickets.drachengasse.at \n
URL:https://www.strawanzerin.at/termin/jekyll-hyde-alle-aengstlichen-bedenken-von-dornbering/
LOCATION:1010 Wien Theater Drachengasse\, Fleischmarkt 22/Eingang Drachengasse 2\, Wien\, 1010\, Österreich
CATEGORIES:Deutsch,Kunst/Kultur,Sonstiges,Theater/Kabarett,Wien
ATTACH;FMTTYPE=image/jpeg:https://www.strawanzerin.at/wp-content/uploads/2024/09/jekylhyde_BP365_568.jpg
END:VEVENT
END:VCALENDAR