BEGIN:VCALENDAR
VERSION:2.0
PRODID:-//STRAWANZERIN - ECPv4.9.5//NONSGML v1.0//EN
CALSCALE:GREGORIAN
METHOD:PUBLISH
X-WR-CALNAME:STRAWANZERIN
X-ORIGINAL-URL:https://www.strawanzerin.at
X-WR-CALDESC:Veranstaltungen im STRAWANZERIN
BEGIN:VTIMEZONE
TZID:"Europe/Vienna"
BEGIN:DAYLIGHT
TZOFFSETFROM:+0100
TZOFFSETTO:+0200
TZNAME:CEST
DTSTART:20240331T010000
END:DAYLIGHT
BEGIN:STANDARD
TZOFFSETFROM:+0200
TZOFFSETTO:+0100
TZNAME:CET
DTSTART:20241027T010000
END:STANDARD
END:VTIMEZONE
BEGIN:VEVENT
DTSTART;TZID="Europe/Vienna":20241119T180000
DTEND;TZID="Europe/Vienna":20241119T210000
DTSTAMP:20260420T233859
CREATED:20241108T130405Z
LAST-MODIFIED:20241108T130405Z
UID:104495-1732039200-1732050000@www.strawanzerin.at
SUMMARY:≠igfem Störfeuer
DESCRIPTION:Lesung feministischer Autorinnen \n
URL:https://www.strawanzerin.at/termin/%e2%89%a0igfem-stoerfeuer/
CATEGORIES:Gratis,Literatur
ATTACH;FMTTYPE=image/jpeg:https://www.strawanzerin.at/wp-content/uploads/2024/11/IMG_1408.jpeg
ORGANIZER;CN="%E2%89%A0igfem":MAILTO:support@igfem.at
END:VEVENT
END:VCALENDAR