BEGIN:VCALENDAR
VERSION:2.0
PRODID:-//STRAWANZERIN - ECPv4.9.5//NONSGML v1.0//EN
CALSCALE:GREGORIAN
METHOD:PUBLISH
X-WR-CALNAME:STRAWANZERIN
X-ORIGINAL-URL:https://www.strawanzerin.at
X-WR-CALDESC:Veranstaltungen im STRAWANZERIN
BEGIN:VTIMEZONE
TZID:"Europe/Vienna"
BEGIN:DAYLIGHT
TZOFFSETFROM:+0100
TZOFFSETTO:+0200
TZNAME:CEST
DTSTART:20170326T010000
END:DAYLIGHT
BEGIN:STANDARD
TZOFFSETFROM:+0200
TZOFFSETTO:+0100
TZNAME:CET
DTSTART:20171029T010000
END:STANDARD
END:VTIMEZONE
BEGIN:VEVENT
DTSTART;TZID="Europe/Vienna":20170613T190000
DTEND;TZID="Europe/Vienna":20170613T220000
DTSTAMP:20260421T191650
CREATED:20170612T074102Z
LAST-MODIFIED:20170612T074102Z
UID:44575-1497380400-1497391200@www.strawanzerin.at
SUMMARY:░ Femininity and Humor ░
DESCRIPTION:As an accompaniment to the exhibition project DEMYSTIFYING FEMININITY\, we will host one evening of live performances in various forms: stand-up comedy\, poetry slam\, music\, dance… aimed at uncovering the lighthearted side of the topic “what is femininity?” \nWhen we asked people what comes to mind when they think of femininity\, many had quite serious answers. That’s cool. This\, however\, is not the evening for that. Lighten up. Listen to some jokes. Listen to some beautiful words. Listen to the keyboard; let it take you on a magical journey to a land where you’re not sure why you took things so seriously before. No\, you will not be on drugs\, you will be experiencing our amazing line-up of performers! They will make you smile and enlighten your brain. Join us! \nLine up: \n1. Alice Reichmann\n2. Anna-Lena Obermoser\n3. Towander Flagg\n4. Kit S Trophy\n5. Julischka Stengele\, Azra\, Pato Wiesauer\, and Lau Lukkarila \n*break* \n6. Dutzi Ijsenhower\n7. Denice Bourbon\n8. Toller & Tallis\n9. Veza Maria Fernandez Wenger \nPerformances in English and German\, up to 10min each \nSpecial „toilet installation“ by:\nKarine Blanche & Laura Mosquera \nOrganized and curated by: Elizabeth Spouse \n
URL:https://www.strawanzerin.at/termin/%e2%96%91-femininity-and-humor-%e2%96%91/
LOCATION:Improper Walls\, Reindorfgasse 42\, Wien\, Wien\, 1150\, Österreich
CATEGORIES:Gratis,Literatur,Wien
ATTACH;FMTTYPE=image/jpeg:https://www.strawanzerin.at/wp-content/uploads/2017/06/18491606_1890683694507634_3301511275511597725_o.jpg
GEO:48.1908533;16.3301859
X-APPLE-STRUCTURED-LOCATION;VALUE=URI;X-ADDRESS=Improper Walls Reindorfgasse 42 Wien Wien 1150 Österreich;X-APPLE-RADIUS=500;X-TITLE=Reindorfgasse 42:geo:16.3301859,48.1908533
END:VEVENT
END:VCALENDAR