BEGIN:VCALENDAR
VERSION:2.0
PRODID:-//STRAWANZERIN - ECPv4.9.5//NONSGML v1.0//EN
CALSCALE:GREGORIAN
METHOD:PUBLISH
X-WR-CALNAME:STRAWANZERIN
X-ORIGINAL-URL:https://www.strawanzerin.at
X-WR-CALDESC:Veranstaltungen im STRAWANZERIN
BEGIN:VTIMEZONE
TZID:"Europe/Vienna"
BEGIN:DAYLIGHT
TZOFFSETFROM:+0100
TZOFFSETTO:+0200
TZNAME:CEST
DTSTART:20200329T010000
END:DAYLIGHT
BEGIN:STANDARD
TZOFFSETFROM:+0200
TZOFFSETTO:+0100
TZNAME:CET
DTSTART:20201025T010000
END:STANDARD
END:VTIMEZONE
BEGIN:VEVENT
DTSTART;TZID="Europe/Vienna":20200124T210000
DTEND;TZID="Europe/Vienna":20200125T210000
DTSTAMP:20260420T103521
CREATED:20200113T160242Z
LAST-MODIFIED:20200130T103419Z
UID:71158-1579899600-1579986000@www.strawanzerin.at
SUMMARY:★ SECRET SWING SOCIETY ★ (The Party)
DESCRIPTION:➸ 24.01.2020 / Fluc (oben)\n➸ 9 pm\n➸ 10€ \n➸ DJs:\nMr Dunkelbunt [transglobal disctrict]\nDJ Adish [Electro Swing Carneval]\nMarx West [blech & bass]\nSid Data [wizard of ost]\nDie Trommelfelldoktoren \n➸ LIVE SET.\nRumBumsen [wackelkontakt] \nSwing in\, swing out into the new roaring Twenties: Anarchische Tanzfreude mit ElectroSwing und Nuu Electronic Hop offeriert die SECRET SWING SOCIETY.  Bombige Bässe\, melodic tunes aus allen Zeiten und Welten. Weil es Zeit wird für frische Dekadenzen! \n🎶 Sounds like: Electro Swing – Gypsy Breaks – Mash Up – Ghetto Funk \n
URL:https://www.strawanzerin.at/termin/%e2%98%85-secret-swing-society-%e2%98%85-the-party/
LOCATION:Fluc & Fluc Wanne\, Praterstern 5\, 1020\, Wien\, Österreich
CATEGORIES:Party
ATTACH;FMTTYPE=image/jpeg:https://www.strawanzerin.at/wp-content/uploads/2020/01/Secret-Swing-Society.jpg
ORGANIZER;CN="%5Bdunkelbunt%5D%20aka%20Ulf%20Lindemann":MAILTO:chris@dunkelbunt.org
GEO:48.2177103;16.3932645
X-APPLE-STRUCTURED-LOCATION;VALUE=URI;X-ADDRESS=Fluc & Fluc Wanne Praterstern 5 1020 Wien Österreich;X-APPLE-RADIUS=500;X-TITLE=Praterstern 5\, 1020:geo:16.3932645,48.2177103
END:VEVENT
END:VCALENDAR