BEGIN:VCALENDAR
VERSION:2.0
PRODID:-//STRAWANZERIN - ECPv4.9.5//NONSGML v1.0//EN
CALSCALE:GREGORIAN
METHOD:PUBLISH
X-WR-CALNAME:STRAWANZERIN
X-ORIGINAL-URL:https://www.strawanzerin.at
X-WR-CALDESC:Veranstaltungen im STRAWANZERIN
BEGIN:VTIMEZONE
TZID:"Europe/Vienna"
BEGIN:DAYLIGHT
TZOFFSETFROM:+0100
TZOFFSETTO:+0200
TZNAME:CEST
DTSTART:20200329T010000
END:DAYLIGHT
BEGIN:STANDARD
TZOFFSETFROM:+0200
TZOFFSETTO:+0100
TZNAME:CET
DTSTART:20201025T010000
END:STANDARD
END:VTIMEZONE
BEGIN:VEVENT
DTSTART;TZID="Europe/Vienna":20200124T210000
DTEND;TZID="Europe/Vienna":20200125T210000
DTSTAMP:20260420T134334
CREATED:20200121T082603Z
LAST-MODIFIED:20200130T104019Z
UID:71563-1579899600-1579986000@www.strawanzerin.at
SUMMARY:✰ Electro Swing Exotica (Party)
DESCRIPTION:➸ 24.01.2020 / Fluc (oben)\n➸ 9 pm\n➸ 10€ \n➸ DJs:\nMr Dunkelbunt [transglobal disctrict]\nDJ Adish [Electro Swing Carneval]\nMarx West [blech & bass]\nSid Data [wizard of ost]\nDie Trommelfelldoktoren \n➸ LIVE SET:\nChristiane Beinl (vocals)\nCab Canavaral (saxophone)\nMr Dunkelbunt (keys & electronics)\nAliosha Biz (violin)\nHaider Khan (tabla/vocals) \nSwing In\, Swing Out into the new Roaring Twenties: Anarchische Tanzfreude mit Electro Swing und Electronic Hop offeriert die SECRET SWING SOCIETY.\n✩✩✩\nLIVE an Bord und einschlägig vorbelastet: die Lindy Hop-Aktivistin Christiane Beinl\, Cab Canaveral\, the DJ with the Sax (Swing it)\, der Teufelsgeiger Aliosha Biz (Dobrek Bistro) und der Perkussionist Haider Khan.\n✩✩✩\nON DECKS: Sid Data\, Sir des legendären Ost-Klub\, DJ Adish vom Electro Swing Carneval\nsowie Seine Dunkelbuntlichkeit Ulf Lindemann\, der die Secret Swing Society natürlich auch live an Tasten und Knöpfen in Fahrt bringen wird.\n✩✩✩\nBombige Bässe und Melodic Tunes ohne Prohibitionen: Weil es Zeit wird für frische Dekadenzen in dieser Stadt! \n🎶 Sounds like: Electro Swing – Gypsy Breaks – Mash Up – Ghetto Funk 🎶 \n
URL:https://www.strawanzerin.at/termin/%e2%9c%b0-electro-swing-exotica-party/
LOCATION:fluc\, Praterstern\, Wien\, Wien\, 1020\, Österreich
CATEGORIES:Party
ATTACH;FMTTYPE=image/jpeg:https://www.strawanzerin.at/wp-content/uploads/2020/01/electroSwingExotica_FB.jpg
ORGANIZER;CN="%5Bdunkelbunt%5D%20aka%20Ulf%20Lindemann":MAILTO:chris@dunkelbunt.org
GEO:48.2190385;16.3911716
X-APPLE-STRUCTURED-LOCATION;VALUE=URI;X-ADDRESS=fluc Praterstern Wien Wien 1020 Österreich;X-APPLE-RADIUS=500;X-TITLE=Praterstern:geo:16.3911716,48.2190385
END:VEVENT
END:VCALENDAR