BEGIN:VCALENDAR
VERSION:2.0
PRODID:-//STRAWANZERIN - ECPv4.9.5//NONSGML v1.0//EN
CALSCALE:GREGORIAN
METHOD:PUBLISH
X-WR-CALNAME:STRAWANZERIN
X-ORIGINAL-URL:https://www.strawanzerin.at
X-WR-CALDESC:Veranstaltungen im STRAWANZERIN
BEGIN:VTIMEZONE
TZID:"Europe/Vienna"
BEGIN:DAYLIGHT
TZOFFSETFROM:+0100
TZOFFSETTO:+0200
TZNAME:CEST
DTSTART:20250330T010000
END:DAYLIGHT
BEGIN:STANDARD
TZOFFSETFROM:+0200
TZOFFSETTO:+0100
TZNAME:CET
DTSTART:20251026T010000
END:STANDARD
END:VTIMEZONE
BEGIN:VEVENT
DTSTART;TZID="Europe/Vienna":20250430T200000
DTEND;TZID="Europe/Vienna":20250430T230000
DTSTAMP:20260422T090023
CREATED:20250327T125853Z
LAST-MODIFIED:20250327T125853Z
UID:106937-1746043200-1746054000@www.strawanzerin.at
SUMMARY:1. Josefstädter Jazzfrühling
DESCRIPTION:Doppelkonzert:  \nErik Trauner &\nMichaela Rabitsch & Robert Pawlik Quartet  \nZum perfekten Zeitpunkt – am International Jazz Day – steigt der erste Josefstädter Jazzfrühling mit einem Doppelkonzert von „Mr. Mojo Blues Band“ Erik Trauner und dem Michaela Rabitsch & Robert Pawlik Quartet im Josefstädter Traditionsmusikclub Tunnel!\n„Mr. Mojo Blues Band“ Erik Trauner – die unbestrittene Nr. 1 am Wiener Blues Olymp – eröffnet mit einem Soloprogramm aus eigener Feder den Jazzfrühling. Akustischer Blues pur\, der an Intensität und Dichte kaum zu übertreffen ist und durch erdiges Gitarrenspiel\, sonoren Gesang und kurzweiliges Entertainment überzeugt.  \nDas Michaela Rabitsch & Robert Pawlik Quartet präsentiert ein abwechslungsreiches und vielschichtiges musikalisches Erlebnis der Extraklasse aus eigener Feder\, getaucht in ihren Signaturesound von Jazz gewürzt mit einer Prise World und fasziniert ein großes Publikum mit ihrer Musik.\nDie Tunes wurzeln einerseits in den songorientierten Stilen der Jazztradition\, im Hardbop\, Swing\, Modern Jazz\, New Orleans Second Line und Blues\, und gehen andererseits eine Fusion ein mit Elementen aus Indischer\, Afrikanischer\, Balkan oder Südamerikanischer Musik.  \nUnd zum krönenden Abschluss des Abends gibt’s dann noch ein Zusammenspiel von Jazz & Blues!  \n      Michaela Rabitsch  – Gesang\, Trompete\, Flügelhorn\,\n      Robert Pawlik – Gitarre\,\n      Joe Abentung – Kontrabass und\n      Dusan Novakov – Schlagzeug  \n      Erik Trauner – Gesang\, Gitarre  \nDer Josefstädter Jazzfrühling ist eine Kooperation von KULT – Verein für zeitgemäße Kunst und Kultur und Tunnel\, mit freundlicher Unterstützung der Bezirksvorstehung Josefstadt und der AKM.  \n
URL:https://www.strawanzerin.at/termin/1-josefstaedter-jazzfruehling/
LOCATION:Tunnel Vienna Live\, Florianigasse 39\, 1080\, Wien\, 1080\, Österreich
CATEGORIES:freie Spende,Kunst/Kultur,Musik,Wien
ATTACH;FMTTYPE=image/jpeg:https://www.strawanzerin.at/wp-content/uploads/2025/03/M.RabitschR.PawlikQuartetLiveCapeTownJazzFestival©RashidLatiff.jpg
ORGANIZER;CN="KULT%20%E2%80%93%20Verein%20f%C3%BCr%20zeitgem%C3%A4%C3%9Fe%20Kunst%20und%20Kultur":MAILTO:vereinkult@gmx.at
GEO:48.2118651;16.3481975
X-APPLE-STRUCTURED-LOCATION;VALUE=URI;X-ADDRESS=Tunnel Vienna Live Florianigasse 39 1080 Wien 1080 Österreich;X-APPLE-RADIUS=500;X-TITLE=Florianigasse 39:geo:16.3481975,48.2118651
END:VEVENT
END:VCALENDAR