BEGIN:VCALENDAR
VERSION:2.0
PRODID:-//STRAWANZERIN - ECPv4.9.5//NONSGML v1.0//EN
CALSCALE:GREGORIAN
METHOD:PUBLISH
X-WR-CALNAME:STRAWANZERIN
X-ORIGINAL-URL:https://www.strawanzerin.at
X-WR-CALDESC:Veranstaltungen im STRAWANZERIN
BEGIN:VTIMEZONE
TZID:"Europe/Vienna"
BEGIN:DAYLIGHT
TZOFFSETFROM:+0100
TZOFFSETTO:+0200
TZNAME:CEST
DTSTART:20180325T010000
END:DAYLIGHT
BEGIN:STANDARD
TZOFFSETFROM:+0200
TZOFFSETTO:+0100
TZNAME:CET
DTSTART:20181028T010000
END:STANDARD
END:VTIMEZONE
BEGIN:VEVENT
DTSTART;TZID="Europe/Vienna":20180501T120000
DTEND;TZID="Europe/Vienna":20180501T220000
DTSTAMP:20260421T163822
CREATED:20180423T130849Z
LAST-MODIFIED:20180425T073957Z
UID:54756-1525176000-1525212000@www.strawanzerin.at
SUMMARY:1. MAI MAYDAY 2018
DESCRIPTION:kannst du?\ndarfst du?\nmusst du?\nwillst du?\narbeiten! \nGegen prekarisierung /\nfür ein gute Leben für Alle! \nDemonstration und Kundgebung bis 22h \n
URL:https://www.strawanzerin.at/termin/1-mai-mayday-2018/
LOCATION:Praterstern (Treffpunkt)\, Wien\, Österreich
CATEGORIES:Kundgebung,Kunst/Kultur,Soziale Kämpfe,Wien
ATTACH;FMTTYPE=image/jpeg:https://www.strawanzerin.at/wp-content/uploads/2018/04/final-768x545.jpg
GEO:48.2081743;16.3738189
END:VEVENT
END:VCALENDAR