BEGIN:VCALENDAR
VERSION:2.0
PRODID:-//STRAWANZERIN - ECPv4.9.5//NONSGML v1.0//EN
CALSCALE:GREGORIAN
METHOD:PUBLISH
X-WR-CALNAME:STRAWANZERIN
X-ORIGINAL-URL:https://www.strawanzerin.at
X-WR-CALDESC:Veranstaltungen im STRAWANZERIN
BEGIN:VTIMEZONE
TZID:"Europe/Vienna"
BEGIN:DAYLIGHT
TZOFFSETFROM:+0100
TZOFFSETTO:+0200
TZNAME:CEST
DTSTART:20180325T010000
END:DAYLIGHT
BEGIN:STANDARD
TZOFFSETFROM:+0200
TZOFFSETTO:+0100
TZNAME:CET
DTSTART:20181028T010000
END:STANDARD
END:VTIMEZONE
BEGIN:VEVENT
DTSTART;VALUE=DATE:20180301
DTEND;VALUE=DATE:20180306
DTSTAMP:20260421T155914
CREATED:20180220T224904Z
LAST-MODIFIED:20180228T083305Z
UID:52671-1519876800-1520222399@www.strawanzerin.at
SUMMARY:1. Porn Film Festival Vienna
DESCRIPTION:Porn. An undeniable part of society and available at the touch of a button. If you have been around on the internet\, chances are high that you have at least stumbled across it.  \nFor a long time\, mainstream porn has dominated our understanding of it. In the best case\, it is a high-performance sport and in the worst case\, inhuman and exploitive. This image proliferates through our collective subconsciousness\, grows into society’s understanding of sexuality and our acceptable modes of sexual behaviour.  \nHowever\, in the words of Annie Sprinkle\, feminist sex educator and theorist: „The answer to bad porn isn’t no porn… it’s to try and make better porn!“  \nPorn Film Festival Vienna is about blurring the lines between art & cinema; reflecting upon sexuality\, feminism\, politics\, and gender-issues through the pornographic lens\, challenging perceptions to the question: WHAT IS PORN? \n>>> CROWDFUNDING.\nHelp us make it happen! Our backers get exclusive perks and pre-sale tickets to the festival: https://tinyurl.com/ychqtez3 \n>>> WEBSITE.\nwww.pornfilmfestivalvienna.at\nThe website is still under-construction but is being updated constantly\, so if something is missing\, please check back again! German version also to follow.  \n
URL:https://www.strawanzerin.at/termin/1-porn-film-festival-vienna/2018-03-01/
LOCATION:Schikaneder\, Margaretenstraße 24\, Wien\, Wien\, 1040\, Österreich
CATEGORIES:Bildung,Deutsch,Englisch,Feminismus,Film,Kunst/Kultur,Queer,Sonstiges,Wien
ATTACH;FMTTYPE=image/jpeg:https://www.strawanzerin.at/wp-content/uploads/2018/02/POSTER-Festival-2018.jpg
GEO:48.196565;16.3650641
X-APPLE-STRUCTURED-LOCATION;VALUE=URI;X-ADDRESS=Schikaneder Margaretenstraße 24 Wien Wien 1040 Österreich;X-APPLE-RADIUS=500;X-TITLE=Margaretenstraße 24:geo:16.3650641,48.196565
END:VEVENT
END:VCALENDAR