BEGIN:VCALENDAR
VERSION:2.0
PRODID:-//STRAWANZERIN - ECPv4.9.5//NONSGML v1.0//EN
CALSCALE:GREGORIAN
METHOD:PUBLISH
X-WR-CALNAME:STRAWANZERIN
X-ORIGINAL-URL:https://www.strawanzerin.at
X-WR-CALDESC:Veranstaltungen im STRAWANZERIN
BEGIN:VTIMEZONE
TZID:"Europe/Vienna"
BEGIN:DAYLIGHT
TZOFFSETFROM:+0100
TZOFFSETTO:+0200
TZNAME:CEST
DTSTART:20170326T010000
END:DAYLIGHT
BEGIN:STANDARD
TZOFFSETFROM:+0200
TZOFFSETTO:+0100
TZNAME:CET
DTSTART:20171029T010000
END:STANDARD
END:VTIMEZONE
BEGIN:VEVENT
DTSTART;TZID="Europe/Vienna":20171027T000000
DTEND;TZID="Europe/Vienna":20171029T000000
DTSTAMP:20260423T175530
CREATED:20171002T140535Z
LAST-MODIFIED:20171002T141639Z
UID:47405-1509062400-1509235200@www.strawanzerin.at
SUMMARY:1. Salzburger Erzählkunst-Festival
DESCRIPTION:Von 27. bis 29. Oktober 2017 wird in St. Virgil frei erzählt über Kurioses\, Köstliches oder Religiöses: mal erheiternd\, mal tiefsinnig. Am 27. Oktober startet das Festival am Nachmittag mit einem Erzählworkshop und am Abend gibt es ein Märchen-Dinner. Am 28. nachmittags werden Märchen für die ganze Familie erzählt und Samstag abends und Sonntag mittags kann man beim Erzähl-Salon schmausen und gleichzeitig lauschen. Wer an Legenden und Wahrem über Martin Luther interessiert ist\, sollte am Sonntag Vormittag zur Matinee vorbeischauen.  \nKontakt: 0662 / 65901-0 \n
URL:https://www.strawanzerin.at/termin/1-salzburger-erzaehlkunst-festival/
END:VEVENT
END:VCALENDAR