BEGIN:VCALENDAR
VERSION:2.0
PRODID:-//STRAWANZERIN - ECPv4.9.5//NONSGML v1.0//EN
CALSCALE:GREGORIAN
METHOD:PUBLISH
X-WR-CALNAME:STRAWANZERIN
X-ORIGINAL-URL:https://www.strawanzerin.at
X-WR-CALDESC:Veranstaltungen im STRAWANZERIN
BEGIN:VTIMEZONE
TZID:"Europe/Vienna"
BEGIN:DAYLIGHT
TZOFFSETFROM:+0100
TZOFFSETTO:+0200
TZNAME:CEST
DTSTART:20180325T010000
END:DAYLIGHT
BEGIN:STANDARD
TZOFFSETFROM:+0200
TZOFFSETTO:+0100
TZNAME:CET
DTSTART:20181028T010000
END:STANDARD
END:VTIMEZONE
BEGIN:VEVENT
DTSTART;TZID="Europe/Vienna":20181010T193000
DTEND;TZID="Europe/Vienna":20181010T193000
DTSTAMP:20260424T172621
CREATED:20181007T111102Z
LAST-MODIFIED:20181007T111102Z
UID:59123-1539199800-1539199800@www.strawanzerin.at
SUMMARY:10 trials ans no more reels
DESCRIPTION:Mit 10 trials and no more reels inszeniert Sebastian Hirn eine musikalisch-installative Performance\, in der auf einem ausgedienten Krabbenkutter durch Musiker und PerformerInnen die Grenzen zwischen Raum und Klang sowie zwischen Körper und Zeit ausgelotet werden. Nachdem diese Performance bereits an unterschiedlichen Spielstätten in Deutschland und der Schweiz zu sehen war\, wird sie nun bei freiem Eintritt einmalig am 10. Oktober 2018 um 19.30 Uhr im Wiener Kunstraum Nestroyhof aufgeführt. \n
URL:https://www.strawanzerin.at/termin/10-trials-ans-no-more-reels/
LOCATION:Kunstraum Nestroyhof\, Nestroyplatz 1\, 1020 Wien\, Wien\, 1020\, Österreich
CATEGORIES:Kunst/Kultur,Musik,Tanz
ATTACH;FMTTYPE=image/jpeg:https://www.strawanzerin.at/wp-content/uploads/2018/09/csm_Ankuendigung_10_Trials_a1879613db.jpg
GEO:48.2144111;16.3850166
X-APPLE-STRUCTURED-LOCATION;VALUE=URI;X-ADDRESS=Kunstraum Nestroyhof Nestroyplatz 1 1020 Wien Wien 1020 Österreich;X-APPLE-RADIUS=500;X-TITLE=Nestroyplatz 1:geo:16.3850166,48.2144111
END:VEVENT
END:VCALENDAR