BEGIN:VCALENDAR
VERSION:2.0
PRODID:-//STRAWANZERIN - ECPv4.9.5//NONSGML v1.0//EN
CALSCALE:GREGORIAN
METHOD:PUBLISH
X-WR-CALNAME:STRAWANZERIN
X-ORIGINAL-URL:https://www.strawanzerin.at
X-WR-CALDESC:Veranstaltungen im STRAWANZERIN
BEGIN:VTIMEZONE
TZID:"Europe/Vienna"
BEGIN:DAYLIGHT
TZOFFSETFROM:+0100
TZOFFSETTO:+0200
TZNAME:CEST
DTSTART:20170326T010000
END:DAYLIGHT
BEGIN:STANDARD
TZOFFSETFROM:+0200
TZOFFSETTO:+0100
TZNAME:CET
DTSTART:20171029T010000
END:STANDARD
END:VTIMEZONE
BEGIN:VEVENT
DTSTART;TZID="Europe/Vienna":20171223T193000
DTEND;TZID="Europe/Vienna":20171223T220000
DTSTAMP:20260422T103629
CREATED:20171221T120300Z
LAST-MODIFIED:20171221T120300Z
UID:50965-1514057400-1514066400@www.strawanzerin.at
SUMMARY:15 Jahre F13 & 15 Jahre SlowForward
DESCRIPTION:15 Jahre F13 & 15 Jahre SlowForward\nZwei Bewegungen feiern Geburtstag:\nSlowForward Performances heißt die von Franz Sramek 2002 ins Leben gerufene Straßentheater- und Performance-Gruppe\, die heute die schnellste Einsatzgruppe der Entschleunigungsbewegung ist. Die für ein jeweiliges Projekt benötigten Mitwirkenden sind aus einem Personentopf gefischt\, der gegenwärtig aus etwa 40 Dramaturgie-Begabten besteht\, Dilettant_innen im ursprünglich positiven Sinn des Wortes. Kein halböffentlicher oder öffentlicher Raum ist vor ihrem provozierenden Kult der Langsamkeit sicher. Von Beginn an begleitete Slow Forward die F13-Bewegung\, ein «die-Stadt-gehört-uns»-Projekt\, das vom AUGUSTIN initiiert wurde und subversive Straßenaktionen an jedem Freitag den Dreizehnten vorsieht. Dabei geht es immer auch um das Recht auf Faulheit (ohne Lohnabzug!). \nEs gibt Filmdokus\, Live-Acts\, Kellertanz. \nSa\, 23.12.\, 19.30 Uhr\nPerinetkeller\n20\, Perinetgasse 1  \n
URL:https://www.strawanzerin.at/termin/15-jahre-f13-15-jahre-slowforward/
LOCATION:Perinetkeller\, Perinetgasse 1\, Wien\, Wien\, 1200\, Österreich
CATEGORIES:Fest,Kunst/Kultur,Soziale Kämpfe,Wien
ATTACH;FMTTYPE=image/jpeg:https://www.strawanzerin.at/wp-content/uploads/2017/12/sfF13.jpg
ORGANIZER;CN="SlowForward":MAILTO:slowolution@slowforward.org
GEO:48.2256602;16.3688653
X-APPLE-STRUCTURED-LOCATION;VALUE=URI;X-ADDRESS=Perinetkeller Perinetgasse 1 Wien Wien 1200 Österreich;X-APPLE-RADIUS=500;X-TITLE=Perinetgasse 1:geo:16.3688653,48.2256602
END:VEVENT
END:VCALENDAR