BEGIN:VCALENDAR
VERSION:2.0
PRODID:-//STRAWANZERIN - ECPv4.9.5//NONSGML v1.0//EN
CALSCALE:GREGORIAN
METHOD:PUBLISH
X-WR-CALNAME:STRAWANZERIN
X-ORIGINAL-URL:https://www.strawanzerin.at
X-WR-CALDESC:Veranstaltungen im STRAWANZERIN
BEGIN:VTIMEZONE
TZID:"Europe/Vienna"
BEGIN:DAYLIGHT
TZOFFSETFROM:+0100
TZOFFSETTO:+0200
TZNAME:CEST
DTSTART:20180325T010000
END:DAYLIGHT
BEGIN:STANDARD
TZOFFSETFROM:+0200
TZOFFSETTO:+0100
TZNAME:CET
DTSTART:20181028T010000
END:STANDARD
END:VTIMEZONE
BEGIN:VEVENT
DTSTART;TZID="Europe/Vienna":20180112T203000
DTEND;TZID="Europe/Vienna":20180113T010000
DTSTAMP:20260423T142105
CREATED:20180102T110514Z
LAST-MODIFIED:20180102T112558Z
UID:51225-1515789000-1515805200@www.strawanzerin.at
SUMMARY:1512-1921 vom hundetragen\, entadeln und bahnhof besetzen
DESCRIPTION:ein historisch-musikalischer abend.\nGeorg Fingerlos liest aus seinen büchern und\ndie Machaĉeks (primitive rock‘nRoll)\,\nDj Dubson (dubtrain\, viennalizm / internat. dubreggae)\net al. (flaschenxylophon\, stylophon und akkordeon)\nmusizieren. \n
URL:https://www.strawanzerin.at/termin/1512-1921-vom-hundetragen-entadeln-und-bahnhof-besetzen/
LOCATION:Nachtasyl\, Stumpergasse 53-55\, Wien\, Wien\, 1060\, Österreich
CATEGORIES:Bildung,Fest,Gratis,Kunst/Kultur,Wien
GEO:48.1951727;16.3428955
X-APPLE-STRUCTURED-LOCATION;VALUE=URI;X-ADDRESS=Nachtasyl Stumpergasse 53-55 Wien Wien 1060 Österreich;X-APPLE-RADIUS=500;X-TITLE=Stumpergasse 53-55:geo:16.3428955,48.1951727
END:VEVENT
END:VCALENDAR