BEGIN:VCALENDAR
VERSION:2.0
PRODID:-//STRAWANZERIN - ECPv4.9.5//NONSGML v1.0//EN
CALSCALE:GREGORIAN
METHOD:PUBLISH
X-WR-CALNAME:STRAWANZERIN
X-ORIGINAL-URL:https://www.strawanzerin.at
X-WR-CALDESC:Veranstaltungen im STRAWANZERIN
BEGIN:VTIMEZONE
TZID:"Europe/Paris"
BEGIN:DAYLIGHT
TZOFFSETFROM:+0100
TZOFFSETTO:+0200
TZNAME:CEST
DTSTART:20150329T010000
END:DAYLIGHT
BEGIN:STANDARD
TZOFFSETFROM:+0200
TZOFFSETTO:+0100
TZNAME:CET
DTSTART:20151025T010000
END:STANDARD
END:VTIMEZONE
BEGIN:VEVENT
DTSTART;TZID="Europe/Paris":20150708T230000
DTEND;TZID="Europe/Paris":20150708T230000
DTSTAMP:20260422T040358
CREATED:20150630T085848Z
LAST-MODIFIED:20150705T090519Z
UID:18131-1436396400-1436396400@www.strawanzerin.at
SUMMARY:19. Margaretner KulturMix
DESCRIPTION:19. Margaretner KulturMix\nLeitung: Christian Hemelmayr\nJeden 2. Mittwoch des Monats gilt im Industrie das Motto: Offenes Mikrofon für Kabarettisten\, Musiker\, Literaten und Künstler jedes Genres. Der Margaretner KulturMix wird mit Mitteln der Kulturförderung des 5. Bezirks unterstützt. \n
URL:https://www.strawanzerin.at/termin/19-margaretner-kulturmix/
LOCATION:Traditionscafé Industrie\, Margaretengürtel 12\, Wien\, Wien\, 1050\, Österreich
CATEGORIES:Deutsch,Gratis,Kunst/Kultur,Literatur,Wien
ATTACH;FMTTYPE=image/jpeg:https://www.strawanzerin.at/wp-content/uploads/2015/06/kulturmix_juli_fb.jpg
ORGANIZER;CN="Ruth%20Binder":MAILTO:event@cafe-industrie.at
GEO:48.1838252;16.3664539
X-APPLE-STRUCTURED-LOCATION;VALUE=URI;X-ADDRESS=Traditionscafé Industrie Margaretengürtel 12 Wien Wien 1050 Österreich;X-APPLE-RADIUS=500;X-TITLE=Margaretengürtel 12:geo:16.3664539,48.1838252
END:VEVENT
END:VCALENDAR