BEGIN:VCALENDAR
VERSION:2.0
PRODID:-//STRAWANZERIN - ECPv4.9.5//NONSGML v1.0//EN
CALSCALE:GREGORIAN
METHOD:PUBLISH
X-WR-CALNAME:STRAWANZERIN
X-ORIGINAL-URL:https://www.strawanzerin.at
X-WR-CALDESC:Veranstaltungen im STRAWANZERIN
BEGIN:VTIMEZONE
TZID:"Europe/Paris"
BEGIN:DAYLIGHT
TZOFFSETFROM:+0100
TZOFFSETTO:+0200
TZNAME:CEST
DTSTART:20150329T010000
END:DAYLIGHT
BEGIN:STANDARD
TZOFFSETFROM:+0200
TZOFFSETTO:+0100
TZNAME:CET
DTSTART:20151025T010000
END:STANDARD
END:VTIMEZONE
BEGIN:VEVENT
DTSTART;TZID="Europe/Paris":20150430T193000
DTEND;TZID="Europe/Paris":20150430T220000
DTSTAMP:20260420T162007
CREATED:20150421T072039Z
LAST-MODIFIED:20150422T075836Z
UID:14126-1430422200-1430431200@www.strawanzerin.at
SUMMARY:2. Josefstädter Jazztag am Inzternational Jazzday
DESCRIPTION:2. Josefstädter Jazztag am International Jazzday\n	Michaela Rabitsch & Robert Pawlik Quartet feat. Richard Oesterreicher   \nAm 30. April 2015 findet weltweit zum 4. Mal der International Jazzday statt – initiiert vom Thelonious Monk Institute of Jazz\, Washington D.C.\, unter dem Vorsitz und der Führung von UNESCO Generaldirektorin Irina Bokova und der Jazzlegende Herbie Hancock.\nÖsterreichs Beitrag zu diesem weltumspannenden Event ist der 2. Josefstädter Jazztag.  \nDas  Michaela Rabitsch & Robert Pawlik Quartet lädt den Wiener Mundharmonikasolisten Richard Oesterreicher als „Special Guest“ ein. Gespielt werden sowohl Stücke des Quartetts als auch Standards aus dem Repertoire Oesterreichers.\nRichard Österreicher ist der breiten Öffentlichkeit vor allem als Leiter der ehemaligen ORF Big Band bekannt und gilt als Jazzlegende\, der auf eine musikalische Karriere von 60 Jahren verweisen kann.\nWährend der letzten Jahre hat das Michaela Rabitsch & Robert Pawlik Quartet Konzerte und Festivals auf 4 Kontinenten und in 40 Ländern gespielt. Die (musikalischen) Eindrücke davon spiegeln sich in ihren Kompositionen wieder und garantieren ein abwechslungsreiches und vielschichtiges musikalisches Erlebnis.\nOb mit afrikanischen Rhythmen oder Flamencotouch\, kubanischem Feuer oder Balkan Grooves – jeder Song hat das „gewisse Etwas“\, ohne die individuelle Handschrift der beiden Leader zu verleugnen.\n„Jazz makes the most of the world’s diversity\, effortlessly crossing borders and bringing people together. From its roots in slavery\, this music has raised a passionate voice against all forms of oppression. It speaks a language of freedom that is meaningful to all cultures.“\n– Irina Bokova\, UNESCO Director General\nBesetzung:\nMichaela Rabitsch – voc\, tp\, flg\nRobert Pawlik – git\nJoe Abentung – b\nDusan Novakov – d\nRichard Oesterreicher – harp\nWo: Galerie „Die Ausstellung“\, 1080 Wien\, Laudongasse 44\n        Reservierung unter: 0676/ 957 10 75\, oder galerie@dieausstellung.at\n        Abendkasse € 16.-  Vvk. € 12.-  Jugendliche & Studenten € 6.-\nWann: Donnerstag\, 30. April 2015\, 19:30\nwww.jazzday.at         www.michaelarabitsch.com        www.dieausstellung.at  \n
URL:https://www.strawanzerin.at/termin/2-josefstaedter-jazztag-am-inzternational-jazzday/
LOCATION:Galerie „Die Ausstellung“\, Laudongasse 44 \, Wien\, Wien\, 1180\, Österreich
CATEGORIES:ab 7,Deutsch,Kunst/Kultur,Musik,Wien
ATTACH;FMTTYPE=image/jpeg:https://www.strawanzerin.at/wp-content/uploads/2015/04/2.Josefstädter-Jazztagbild540.jpg
ORGANIZER;CN="Michaela%20Rabitsch":MAILTO:office@michaelarabitsch.com
GEO:48.2132375;16.3444442
X-APPLE-STRUCTURED-LOCATION;VALUE=URI;X-ADDRESS=Galerie „Die Ausstellung“ Laudongasse 44  Wien Wien 1180 Österreich;X-APPLE-RADIUS=500;X-TITLE=Laudongasse 44:geo:16.3444442,48.2132375
END:VEVENT
END:VCALENDAR