BEGIN:VCALENDAR
VERSION:2.0
PRODID:-//STRAWANZERIN - ECPv4.9.5//NONSGML v1.0//EN
CALSCALE:GREGORIAN
METHOD:PUBLISH
X-WR-CALNAME:STRAWANZERIN
X-ORIGINAL-URL:https://www.strawanzerin.at
X-WR-CALDESC:Veranstaltungen im STRAWANZERIN
BEGIN:VTIMEZONE
TZID:"Europe/Vienna"
BEGIN:DAYLIGHT
TZOFFSETFROM:+0100
TZOFFSETTO:+0200
TZNAME:CEST
DTSTART:20220327T010000
END:DAYLIGHT
BEGIN:STANDARD
TZOFFSETFROM:+0200
TZOFFSETTO:+0100
TZNAME:CET
DTSTART:20221030T010000
END:STANDARD
END:VTIMEZONE
BEGIN:VEVENT
DTSTART;TZID="Europe/Vienna":20220925T120000
DTEND;TZID="Europe/Vienna":20220925T180000
DTSTAMP:20260423T174233
CREATED:20220915T113919Z
LAST-MODIFIED:20220922T094608Z
UID:86511-1664107200-1664128800@www.strawanzerin.at
SUMMARY:2. Landstrasser Jazz & Genusstag
DESCRIPTION:Die Wiener Jazz & Genusstage sind das Wiener Jazzfest der Bezirke und feiern heuer ihr 10-jähriges Jubiläum – Bezirksjazztage direkt vor der Haustür der WienerInnen. \nAuf Grund des großen Erfolgs der letzten Jahre gibt es mittlerweile bereits Jazz & Genusstage in 20 Bezirken\, und der 2. Landstraßer Jazz & Genusstag findet heuer im Rahmen von „Das Dorf Festival“ statt. \nGenießen Sie das tolle Ambiente mit groovigem Jazz des Michaela Rabitsch & Robert Pawlik Quartet\, mit einem Programm\, inspiriert durch ihre zahlreichen Tourneen der letzten Jahre durch Europa\, Asien\, Afrika und Amerika\, mit 1500 Konzerten und Festivalauftritten in 50 Ländern.\nÖsterreichs einzige singende Topjazztrompeterin und ihr Partner\, der Gitarrenvirtuose Robert Pawlik\, liefern mit Ihrer Band ein abwechslungsreiches und vielschichtiges musikalisches Erlebnis der Extrakasse\, getaucht in ihren Signaturesound von Jazz gewürzt mit einer Prise World! \nMit Mr. Mojo Blues Band Erik Trauner beehrt DIE Wiener Bluesinstitution den Jazztag im 3. Tief verwurzelt in der Tradition der Bluesman begeistert er mit Bottleneck\, Steelgitarre und sonorem Gesang mit Songs aus eigener Feder und kurzweiligem Entertainment. \nWeltklassejazz made in Austria!  \nEintritt frei!\nSonntag\, 25. September 2022\, 11:00-18:00 Landstraßer Jazz & Genusstag im Rahmen von „Das Dorf Festival“\, 1030 Wien\, Das Dorf\, Obere Viaduktgasse 2\nOpen Air; bei Regen: indoor \n12:00-13:30 – „Mr. Mojo Blues Band“ Erik Trauner – git\, voc\n14:00-14:30 – Küchenchor\n15:00-15:45 Michaela Rabitsch & Robert Pawlik Quartet\n16:30-18:00 Michaela Rabitsch & Robert Pawlik Quartet\n	Michaela Rabitsch – voc\, tp\, flg\n	Robert Pawlik – git\n	Joe Abentung – b\n	Dusan Novakov – d  \nvon 11:00-18:00 sorgt der Nordkap Brunch für kulinarischen Genuss\, und von 16:00-17:00 gibt es Bäume der Stadt (nicht am Festivalgelände) \nDer Landstraßer Jazz & Genusstag ist eine Veranstaltung von KULT – Verein für zeitgemäße Kunst und Kultur\, mit freundlicher Unterstützung der Bezirksvorstehung Landstraße\, der Stadt Wien und der AKM\, in Kooperation mit „Das Dorf“ \n
URL:https://www.strawanzerin.at/termin/2-landstrasser-jazz-genusstag/
LOCATION:Das Dorf\, Viaduktgasse 2/1\, Wien\, 1030\, Österreich
CATEGORIES:Gratis,Kunst/Kultur,Musik,Wien
ATTACH;FMTTYPE=image/jpeg:https://www.strawanzerin.at/wp-content/uploads/2022/09/M.RabitschR.PawlikQuartetLiveCapeTownJazzFestival-1.jpg
ORGANIZER;CN="KULT%20%E2%80%93%20Verein%20f%C3%BCr%20zeitgem%C3%A4%C3%9Fe%20Kunst%20und%20Kultur%2C%20mit%20freundlicher%20Unterst%C3%BCtzung%20der%20Bezirksvorstehung%20Landstra%C3%9Fe%2C%20der%20Stadt%20Wien%20und%20der%20AKM%2C%20in%20Kooperation%20mit%20%22Das%20Dorf%22":MAILTO:vereinkult@gmx.at
GEO:48.2081696;16.3877767
X-APPLE-STRUCTURED-LOCATION;VALUE=URI;X-ADDRESS=Das Dorf Viaduktgasse 2/1 Wien 1030 Österreich;X-APPLE-RADIUS=500;X-TITLE=Viaduktgasse 2/1:geo:16.3877767,48.2081696
END:VEVENT
END:VCALENDAR