BEGIN:VCALENDAR
VERSION:2.0
PRODID:-//STRAWANZERIN - ECPv4.9.5//NONSGML v1.0//EN
CALSCALE:GREGORIAN
METHOD:PUBLISH
X-WR-CALNAME:STRAWANZERIN
X-ORIGINAL-URL:https://www.strawanzerin.at
X-WR-CALDESC:Veranstaltungen im STRAWANZERIN
BEGIN:VTIMEZONE
TZID:"Europe/Vienna"
BEGIN:DAYLIGHT
TZOFFSETFROM:+0100
TZOFFSETTO:+0200
TZNAME:CEST
DTSTART:20230326T010000
END:DAYLIGHT
BEGIN:STANDARD
TZOFFSETFROM:+0200
TZOFFSETTO:+0100
TZNAME:CET
DTSTART:20231029T010000
END:STANDARD
END:VTIMEZONE
BEGIN:VEVENT
DTSTART;TZID="Europe/Vienna":20231220T160000
DTEND;TZID="Europe/Vienna":20231220T180000
DTSTAMP:20260421T211235
CREATED:20231215T122539Z
LAST-MODIFIED:20231215T122539Z
UID:95816-1703088000-1703095200@www.strawanzerin.at
SUMMARY:-20% auf Alles Flohmarkt Halle --beheizt
DESCRIPTION:Im Winter beheizt! Gewerbegebiet Markgrafneusiedl/Strasshof. Google Navi: Flohmarkt Halle Rümpeltrupp\nUnsere modern und hell gestaltete Halle erstreckt sich über das Erdgeschoss und einer Galerie. Bei uns findest du alles von A – Z!\nAntik\, Vintage\, Mid Century\, Gebraucht oder auch Neu.\nDu brauchst Beispiele was es bei uns zu kaufen gibt? Dann lies bitte weiter 🙂\nBücher (Kochbücher\, Kinderbücher\, Waffenbücher\, Kriegsbücher ect.)\nSchallplatten\nWerkzeug\nMaschinen\nSchuhe (Neu oder kaum getragen)\nDekoration (alle Jahrezeiten)\nKerzen\nKüchenutensilien (Töpfe\, Pfannen\, ect. oft Marken wie WMF usw.)\nPorzellan\nKeramik\nGläser\nBleikristall\nPutzmittel\nReinigungsartikel\nKerzenhalter\nEmail\nModellautos (Schuco usw.)\nGemälde/Bilder (Antik/Modern)\nKleidung (Neu und Second Hand\, versch. Größen)\nTürkränze\nHygieneartikel\nLampen (Antik/Neu)\nStehlampen/Tischlampen\nTeppiche (Perser\, Wolle\, Seide\, Modern ect.)\nSportgeräte\nSchalen/Schüsseln\nRosenthal Manufaktur\nMesser (Antik\, Schweizer\, Militaria)\nVasen\nKinderspiele\nSpielzeug\nBettwäsche (Neu)\nRadios (Vintage/Modern)\nWecker (Antik/Modern)\nComics\nMicky Mouse Comica/Bücher\nSammlerobjekte\nMid Century\nKleinmöbel\nVintage\nArbeitskleidung\nWeihnachtsschmuck\nUhren\nSchmuck (Echt/Modeschmuck)\nKeramikfigur\nund ganz viel mehr! Unser Sortiment wechselt regelmässig\, daher zahlt sich ein Besuch bei uns immer aus! \n
URL:https://www.strawanzerin.at/termin/20-auf-alles-flohmarkt-halle-beheizt/
LOCATION:Rümpeltrupp\, Lindenweg 11\, Markgrafneusiedl\, Niederösterreich\, 2282\, Österreich
CATEGORIES:Flohmarkt
ATTACH;FMTTYPE=image/jpeg:https://www.strawanzerin.at/wp-content/uploads/2023/12/410006777_871330338332667_2926577990749555389_n.jpg
ORGANIZER;CN="R%C3%BCmpeltrupp":MAILTO:office@ruempeltrupp.at
END:VEVENT
END:VCALENDAR