BEGIN:VCALENDAR
VERSION:2.0
PRODID:-//STRAWANZERIN - ECPv4.9.5//NONSGML v1.0//EN
CALSCALE:GREGORIAN
METHOD:PUBLISH
X-WR-CALNAME:STRAWANZERIN
X-ORIGINAL-URL:https://www.strawanzerin.at
X-WR-CALDESC:Veranstaltungen im STRAWANZERIN
BEGIN:VTIMEZONE
TZID:"Europe/Helsinki"
BEGIN:DAYLIGHT
TZOFFSETFROM:+0200
TZOFFSETTO:+0300
TZNAME:EEST
DTSTART:20150329T010000
END:DAYLIGHT
BEGIN:STANDARD
TZOFFSETFROM:+0300
TZOFFSETTO:+0200
TZNAME:EET
DTSTART:20151025T010000
END:STANDARD
END:VTIMEZONE
BEGIN:VEVENT
DTSTART;TZID="Europe/Helsinki":20151014T190000
DTEND;TZID="Europe/Helsinki":20151014T230000
DTSTAMP:20260423T162244
CREATED:20150920T183919Z
LAST-MODIFIED:20150922T141059Z
UID:19828-1444849200-1444863600@www.strawanzerin.at
SUMMARY:21. Margaretner KulturMix
DESCRIPTION:Jeden 2. Mittwoch des Monats gilt das Motto: Offenes Mikrofon für Kabarettisten\, Musiker\, Literaten und Künstler jedes Genres. Die Veranstaltung wird vom 5. Bezirk unterstützt und gefördert. Vielen Dank Margareten!  \n
URL:https://www.strawanzerin.at/termin/21-margaretner-kulturmix/2015-10-14/
LOCATION:Traditionscafé Industrie\, Margaretengürtel 12\, Wien\, Wien\, 1050\, Österreich
ORGANIZER;CN="Ruth%20Binder":MAILTO:event@cafe-industrie.at
GEO:48.1838252;16.3664539
X-APPLE-STRUCTURED-LOCATION;VALUE=URI;X-ADDRESS=Traditionscafé Industrie Margaretengürtel 12 Wien Wien 1050 Österreich;X-APPLE-RADIUS=500;X-TITLE=Margaretengürtel 12:geo:16.3664539,48.1838252
END:VEVENT
END:VCALENDAR