BEGIN:VCALENDAR
VERSION:2.0
PRODID:-//STRAWANZERIN - ECPv4.9.5//NONSGML v1.0//EN
CALSCALE:GREGORIAN
METHOD:PUBLISH
X-WR-CALNAME:STRAWANZERIN
X-ORIGINAL-URL:https://www.strawanzerin.at
X-WR-CALDESC:Veranstaltungen im STRAWANZERIN
BEGIN:VTIMEZONE
TZID:"Europe/Helsinki"
BEGIN:DAYLIGHT
TZOFFSETFROM:+0200
TZOFFSETTO:+0300
TZNAME:EEST
DTSTART:20140330T010000
END:DAYLIGHT
BEGIN:STANDARD
TZOFFSETFROM:+0300
TZOFFSETTO:+0200
TZNAME:EET
DTSTART:20141026T010000
END:STANDARD
END:VTIMEZONE
BEGIN:VEVENT
DTSTART;TZID="Europe/Helsinki":20141024T193000
DTEND;TZID="Europe/Helsinki":20141024T220000
DTSTAMP:20260420T151743
CREATED:20141002T141125Z
LAST-MODIFIED:20141006T080437Z
UID:7730-1414179000-1414188000@www.strawanzerin.at
SUMMARY:25 Jahre »Wiener Tschuschenkapelle«
DESCRIPTION:Sie spielte bereits in Brasilien\, Kanada\, Zimbabwe\, Marokko und der Wiener Staatsoper. Seit einem Vierteljahrhundert tourt die »Wiener Tschuschenkapelle« erfolgreich um die Welt. Am Freitag\, 24. Oktober 2014\, feiert das Ensemble sein 25-jähriges Bühnenjubiläum mit einem Gastspiel in der Kulturszene Kottingbrunn. Dabei geht es mit einer Mischung aus Balkan-Rhythmen\, orientalischen Klängen\, Gipsyjazz und Wienerlied auf eine bunte musikalische Reise. Konzertbeginn ist um 19.30 Uhr. \nZeit:\nFreitag\, 24. Oktober 2014\, 19.30 Uhr \nOrt:\nKulturszene Kottingbrunn\, Schloss 1\, 2542 Kottingbrunn \nKartenreservierungen:\nTel.: 02252 74383 \nInfo:\nwww.kulturszene.at \n
URL:https://www.strawanzerin.at/termin/25-jahre-wiener-tschuschenkapelle/
LOCATION:Kulturszene Kottingbrunn\, Schloss 1\, 2542 Kottingbrunn \, Kottingbrunn\, 2542\, Österreich
CATEGORIES:ab 7,Deutsch,Kunst/Kultur,Musik,Niederösterreich
ATTACH;FMTTYPE=image/jpeg:https://www.strawanzerin.at/wp-content/uploads/2014/10/Wiener-Tschuschenkapelle.jpg
GEO:47.9511536;16.2305035
X-APPLE-STRUCTURED-LOCATION;VALUE=URI;X-ADDRESS=Kulturszene Kottingbrunn Schloss 1 2542 Kottingbrunn  Kottingbrunn 2542 Österreich;X-APPLE-RADIUS=500;X-TITLE=Schloss 1\, 2542 Kottingbrunn:geo:16.2305035,47.9511536
END:VEVENT
END:VCALENDAR