BEGIN:VCALENDAR
VERSION:2.0
PRODID:-//STRAWANZERIN - ECPv4.9.5//NONSGML v1.0//EN
CALSCALE:GREGORIAN
METHOD:PUBLISH
X-WR-CALNAME:STRAWANZERIN
X-ORIGINAL-URL:https://www.strawanzerin.at
X-WR-CALDESC:Veranstaltungen im STRAWANZERIN
BEGIN:VTIMEZONE
TZID:"Europe/Vienna"
BEGIN:DAYLIGHT
TZOFFSETFROM:+0100
TZOFFSETTO:+0200
TZNAME:CEST
DTSTART:20190331T010000
END:DAYLIGHT
BEGIN:STANDARD
TZOFFSETFROM:+0200
TZOFFSETTO:+0100
TZNAME:CET
DTSTART:20191027T010000
END:STANDARD
END:VTIMEZONE
BEGIN:VEVENT
DTSTART;TZID="Europe/Vienna":20190927T170000
DTEND;TZID="Europe/Vienna":20190927T210000
DTSTAMP:20260420T083055
CREATED:20190829T151609Z
LAST-MODIFIED:20190903T165731Z
UID:66821-1569603600-1569618000@www.strawanzerin.at
SUMMARY:3. Astrologisches Quartalstreffen
DESCRIPTION:Mit der Herbst-Tag-Nachtgleiche am 23.9.19 beginnt nach unserem Kalender der Herbst. Die Sonne wechselt aus dem Tierkreiszeichen Jungfrau in die Waage. Die Ernte des Jahres wird eingefahren\, die Wochen der Innenschau und des Ordnung Schaffens gehen zu Ende. Die konkrete Umsetzung der Erneuerung wird spürbar. Ein neuer Zyklus der Beziehung zu uns selbst und zu anderen hat begonnen. Die Veränderungen werden auch dadurch sichtbar\, dass vieles zu Ende geht\, wodurch Raum für Neues entsteht…\n \nIch lade Dich herzlich ein\, einen Blick auf die Sternenkonstellation der nächsten 3 Monate bis zur Wintersonnwende am 22.12.19 zu werfen. Gerade in Zeiten des Umbruchs im persönlichen und öffentlichen Leben kann es hilfreich sein\, das\, was geschieht\, aus einer höheren Perspektive wahrzunehmen…\n \nGern können wir dabei auch Dein persönliches Horoskop mit einbeziehen\, wenn Du das magst.\n  \n
URL:https://www.strawanzerin.at/termin/3-astrologisches-quartalstreffen/
LOCATION:geist/reich\, 1080 Wien\, Albertgasse 33\, Albertgasse 33\, Gartentrakt 1. Stock (Türöffner - bei unik.at  läuten)   \, 1080 Wien\, 1080\, Österreich
CATEGORIES:Sonstiges,Treffen,Workshop
ATTACH;FMTTYPE=image/jpeg:https://www.strawanzerin.at/wp-content/uploads/2019/08/noname.jpg
ORGANIZER;CN="geist%2Freich":MAILTO:s.legler@gmx.at
END:VEVENT
END:VCALENDAR