BEGIN:VCALENDAR
VERSION:2.0
PRODID:-//STRAWANZERIN - ECPv4.9.5//NONSGML v1.0//EN
CALSCALE:GREGORIAN
METHOD:PUBLISH
X-WR-CALNAME:STRAWANZERIN
X-ORIGINAL-URL:https://www.strawanzerin.at
X-WR-CALDESC:Veranstaltungen im STRAWANZERIN
BEGIN:VTIMEZONE
TZID:"Europe/Helsinki"
BEGIN:DAYLIGHT
TZOFFSETFROM:+0200
TZOFFSETTO:+0300
TZNAME:EEST
DTSTART:20140330T010000
END:DAYLIGHT
BEGIN:STANDARD
TZOFFSETFROM:+0300
TZOFFSETTO:+0200
TZNAME:EET
DTSTART:20141026T010000
END:STANDARD
END:VTIMEZONE
BEGIN:VEVENT
DTSTART;TZID="Europe/Helsinki":20140415T100000
DTEND;TZID="Europe/Helsinki":20140515T170000
DTSTAMP:20260420T161121
CREATED:20140513T114755Z
LAST-MODIFIED:20140513T114755Z
UID:1074-1397556000-1400173200@www.strawanzerin.at
SUMMARY:3 Sprachen / Territorium BG
DESCRIPTION:Malerei | Objekte | Zeichnungen – Werke von Brigitte Lang (A)\, János Miklós Kádár (H) und Jivko Sedlarski (BG) \nDie Welt rückt zusammen\, wird durch den technischen Fortschritt transparenter. Wir sind informiert und souveräner geworden\, dennoch ist uns die Welt des „Nachbarn“\, da wir die Sprache nicht verstehen\, oft sehr fremd. Es ist die Kunst\, die eine universelle Sprache hat\, die Grenzen überschreiten kann\, die uns „alle“ zusammenfügt. Die Lebensfragen sind überall die gleichen. Orte\, wo die Kunst im Mittelpunkt steht\, sind immer Orte der Kommunikation\, des Austausches und der gegenseitigen Abhängigkeit. Die Österreicherin Brigitte Lang\, der dieses Jahr gerade 75 Jahre alt gewordene Ungar\, János Miklós Kádár und der Bulgare Jivko Sedlarski treffen sich auf bulgarischem Territorium in Wien. Es gibt kaum einen würdigeren Ort für ihren künstlerischen Trialog als das wunderbare Architekturdenkmal „Haus Wittgenstein”. In ihren eigenen Sprachen würden sich die drei kaum verstehen. Doch ihre Kunst ist universeller als die gesprochenen Worte. Und so entsteht tatsächlich Reflexion und Austausch zwischen den durchdarchten Konstruktionen von Brigitte Lang\, den farblich ausgewogenen\, meist figuralen Gemälden und Zeichnungen von János Miklós Kádár und den meisterhaften Skulpturen von Jivko Sedlarski. Damit stellt diese Schau einmal mehr unter Beweis\, dass zeitgenössische Kunst mit einer wunderbaren Leichtigkeit Brücken schafft zwischen unterschiedlichen Identitäten\, Nationalitäten\, Sprachen und Ländern. \nÖffnungszeiten | Werktags (Mo.-Fr.) von 10 bis 17 Uhr \nEine Veranstaltung des Haus Wittgenstein – Bulgarisches Kulturinstitut Wien\, Collegium Hungaricum Wien\, artP.kunstverein und Kultur im Dritten. \n
URL:https://www.strawanzerin.at/termin/3-sprachen-territorium-bg/
LOCATION:Haus Wittgenstein\, Parkgasse 18\, Wien\, wien\, 1030\, Österreich
CATEGORIES:Ausstellung,Deutsch,Gratis
GEO:48.2033226;16.3944492
X-APPLE-STRUCTURED-LOCATION;VALUE=URI;X-ADDRESS=Haus Wittgenstein Parkgasse 18 Wien wien 1030 Österreich;X-APPLE-RADIUS=500;X-TITLE=Parkgasse 18:geo:16.3944492,48.2033226
END:VEVENT
END:VCALENDAR