BEGIN:VCALENDAR
VERSION:2.0
PRODID:-//STRAWANZERIN - ECPv4.9.5//NONSGML v1.0//EN
CALSCALE:GREGORIAN
METHOD:PUBLISH
X-WR-CALNAME:STRAWANZERIN
X-ORIGINAL-URL:https://www.strawanzerin.at
X-WR-CALDESC:Veranstaltungen im STRAWANZERIN
BEGIN:VTIMEZONE
TZID:"Europe/Vienna"
BEGIN:DAYLIGHT
TZOFFSETFROM:+0100
TZOFFSETTO:+0200
TZNAME:CEST
DTSTART:20170326T010000
END:DAYLIGHT
BEGIN:STANDARD
TZOFFSETFROM:+0200
TZOFFSETTO:+0100
TZNAME:CET
DTSTART:20171029T010000
END:STANDARD
END:VTIMEZONE
BEGIN:VEVENT
DTSTART;TZID="Europe/Vienna":20170520T210000
DTEND;TZID="Europe/Vienna":20170520T230000
DTSTAMP:20260420T193057
CREATED:20170418T083543Z
LAST-MODIFIED:20170419T113719Z
UID:43098-1495314000-1495321200@www.strawanzerin.at
SUMMARY:3. Stand-up Comedy Nacht im GRIND
DESCRIPTION:Newcomer\, Preisträger und Teppichhändler aus Deutschland\, Österreich\, der Schweiz\, dem Irak und der Steiermark. Jung\, frech und garantiert glutenfrei; die perfekte Mischung für eine unvergessliche Stand-up Comedy-Nacht mit viel lustig und schoaf. \nFreie Spende! Jede/r gibt was das Geldbörsel gerade hergeben kann. \nMit sympathischem Schweizer-Charme und derbem Wiener Schmäh\, eine Mischung die ebenso selten wie komisch ist\, führt Comedienne Isabel Meili durch den Abend. Mit Sonja Pikart\, Clemens Maria Schreiner\, Aladdin Jameel und Elias Werner \n
URL:https://www.strawanzerin.at/termin/3-stand-up-comedy-nacht-im-grind/
LOCATION:Grind\, Nordbergstraße 12\, Wien\, Wien\, 1090\, Österreich
CATEGORIES:Deutsch,Eintrittspreis,freie Spende,Kunst/Kultur,Theater/Kabarett,Veranstaltungssprache,Wien
ATTACH;FMTTYPE=image/jpeg:https://www.strawanzerin.at/wp-content/uploads/2017/04/17991959_1660094877619278_6049496324842180668_n.jpg
GEO:48.2275718;16.3618098
X-APPLE-STRUCTURED-LOCATION;VALUE=URI;X-ADDRESS=Grind Nordbergstraße 12 Wien Wien 1090 Österreich;X-APPLE-RADIUS=500;X-TITLE=Nordbergstraße 12:geo:16.3618098,48.2275718
END:VEVENT
END:VCALENDAR