BEGIN:VCALENDAR
VERSION:2.0
PRODID:-//STRAWANZERIN - ECPv4.9.5//NONSGML v1.0//EN
CALSCALE:GREGORIAN
METHOD:PUBLISH
X-WR-CALNAME:STRAWANZERIN
X-ORIGINAL-URL:https://www.strawanzerin.at
X-WR-CALDESC:Veranstaltungen im STRAWANZERIN
BEGIN:VTIMEZONE
TZID:"Europe/Helsinki"
BEGIN:DAYLIGHT
TZOFFSETFROM:+0200
TZOFFSETTO:+0300
TZNAME:EEST
DTSTART:20140330T010000
END:DAYLIGHT
BEGIN:STANDARD
TZOFFSETFROM:+0300
TZOFFSETTO:+0200
TZNAME:EET
DTSTART:20141026T010000
END:STANDARD
END:VTIMEZONE
BEGIN:VEVENT
DTSTART;TZID="Europe/Helsinki":20141024T150000
DTEND;TZID="Europe/Helsinki":20141024T170000
DTSTAMP:20260421T001731
CREATED:20140919T110151Z
LAST-MODIFIED:20140919T110151Z
UID:6555-1414162800-1414170000@www.strawanzerin.at
SUMMARY:3. Teil des Weges der Erinnerung durch die Brigittenau 
DESCRIPTION:Der Verein Steine der Erinnerung eröffnet zusammen mit Angehörigen aus den USA und aus England sowie Interessierten 3 neue Stationen der Erinnerung für ermordete jüdische Menschen in der Brigittenau. Nach der Eröffnung werden die Stationen gemeinsam begangen. \n
URL:https://www.strawanzerin.at/termin/3-teil-des-weges-der-erinnerung-durch-die-brigittenau/
CATEGORIES:Antifaschismus,Englisch,Gratis,Rundgang,Sonstiges,Wien
ORGANIZER;CN="Verein%20Steine%20der%20Erinnerung":MAILTO:info@steinedererinnerung.net
END:VEVENT
END:VCALENDAR