BEGIN:VCALENDAR
VERSION:2.0
PRODID:-//STRAWANZERIN - ECPv4.9.5//NONSGML v1.0//EN
CALSCALE:GREGORIAN
METHOD:PUBLISH
X-WR-CALNAME:STRAWANZERIN
X-ORIGINAL-URL:https://www.strawanzerin.at
X-WR-CALDESC:Veranstaltungen im STRAWANZERIN
BEGIN:VTIMEZONE
TZID:"Europe/Vienna"
BEGIN:DAYLIGHT
TZOFFSETFROM:+0100
TZOFFSETTO:+0200
TZNAME:CEST
DTSTART:20180325T010000
END:DAYLIGHT
BEGIN:STANDARD
TZOFFSETFROM:+0200
TZOFFSETTO:+0100
TZNAME:CET
DTSTART:20181028T010000
END:STANDARD
END:VTIMEZONE
BEGIN:VEVENT
DTSTART;TZID="Europe/Vienna":20180811T160000
DTEND;TZID="Europe/Vienna":20180811T200000
DTSTAMP:20260421T152901
CREATED:20180806T123007Z
LAST-MODIFIED:20180809T095939Z
UID:57997-1534003200-1534017600@www.strawanzerin.at
SUMMARY:30 Jahre Räumung - Kein Vergeben\, kein Vergessen
DESCRIPTION:Am 11. bzw. 12 August jährt sich zum 30. Mal die brutale Räumung der Häuser Aegidigsse und Spalowskygasse. Aus diesem Anlass zeigen wir an beiden Tagen eine Ausstellung\, die sich mit der Geschichte der beiden Häuser\, ihrer Räumung und dem Kampf der Hausgemeinschaft Aegidi/Spalo in den folgenden rund eineinhalb Jahren beschäftigt. \n
URL:https://www.strawanzerin.at/termin/30-jahre-raeumung-kein-vergeben-kein-vergessen/
LOCATION:Pankahyttn\, Johnstrasse 45\, Wien\, Wien\, 1150\, Österreich
CATEGORIES:Ausstellung
ORGANIZER;CN="pankahyttn":MAILTO:pankahyttn@gmx.at
GEO:48.1967529;16.3183513
X-APPLE-STRUCTURED-LOCATION;VALUE=URI;X-ADDRESS=Pankahyttn Johnstrasse 45 Wien Wien 1150 Österreich;X-APPLE-RADIUS=500;X-TITLE=Johnstrasse 45:geo:16.3183513,48.1967529
END:VEVENT
END:VCALENDAR