BEGIN:VCALENDAR
VERSION:2.0
PRODID:-//STRAWANZERIN - ECPv4.9.5//NONSGML v1.0//EN
CALSCALE:GREGORIAN
METHOD:PUBLISH
X-WR-CALNAME:STRAWANZERIN
X-ORIGINAL-URL:https://www.strawanzerin.at
X-WR-CALDESC:Veranstaltungen im STRAWANZERIN
BEGIN:VTIMEZONE
TZID:"Europe/Vienna"
BEGIN:DAYLIGHT
TZOFFSETFROM:+0100
TZOFFSETTO:+0200
TZNAME:CEST
DTSTART:20170326T010000
END:DAYLIGHT
BEGIN:STANDARD
TZOFFSETFROM:+0200
TZOFFSETTO:+0100
TZNAME:CET
DTSTART:20171029T010000
END:STANDARD
END:VTIMEZONE
BEGIN:VEVENT
DTSTART;TZID="Europe/Vienna":20170622T110000
DTEND;TZID="Europe/Vienna":20170622T190000
DTSTAMP:20260423T045858
CREATED:20170502T152855Z
LAST-MODIFIED:20171030T101429Z
UID:43678-1498129200-1498158000@www.strawanzerin.at
SUMMARY:33⅓ – Cover Art
DESCRIPTION:Derzeit erfährt die Schallplatte trotz des digital bestimmten Zeitalters eine Renaissance. Früher war sie der dominierende analoge Tonträger\, der die verschiedensten musikalischen Genres in die Haushalte von Musikliebhabern brachte. Das Plattencover hatte dabei einen entscheidenden Anteil daran\, dass die LP geradezu der Inbegriff des populären Musikmediums im 20. Jahrhundert wurde. Musik traf auf\nFotografie\, Grafik-Design und bildende Kunst\, wodurch viele fruchtbare\nspartenübergreifende Verbindungen zwischen KünstlerInnen entstanden. So arbeitete zum Beispiel Robert Frank mit den Rolling Stones\, die ihrerseits wiederum mit Andy Warhol kooperierten\, Patti Smith wurde von ihrem Freund Robert Mapplethorpe gleich für mehrere Alben fotografiert\, Debbie Harry inspirierte den Schweizer Maler HR Giger\nzur Gestaltung eines Plattencovers und immer wieder gab es MusikerInnen\, die Cover auch selbst entworfen haben. \nDie Ausstellung „33⅓ – Cover Art“ im Kunstraum Nestroyhof blickt mit über 250 ausgewählten Exponaten zurück auf die Geschichte der Plattenhülle. Dabei werden Cover von so unterschiedlichen MusikerInnen wie Sonny Rollins\, Janis Joplin\, Bob Dylan\, Grace Jones oder André Heller vorgestellt\, FotografInnen wie Lee Friedlander und Annie Leibovitz\, aber auch Designergruppen wie Hipgnosis oder bildende KünstlerInnen wie Roger Dean und Bridget Riley. Ein weiteres Augenmerk gilt den legendären Plattenfirmen Blue Note und ECM\, die auf ein einheitliches künstlerisch gestaltetes Erscheinungsbild ihrer Albumhüllen Wert legten. Die Ergebnisse der Zusammenarbeit visualisieren kongenial die Musik und verdeutlichen oft den Zeitgeist.\nViele der in der Ausstellung präsentierten Plattencover gelten heute als Kunst- und Kultobjekte. \n
URL:https://www.strawanzerin.at/termin/33%e2%85%93-cover-art/2017-06-22/
LOCATION:Kunstraum Nestroyhof\, Nestroyplatz 1\, 1020 Wien\, Wien\, 1020\, Österreich
CATEGORIES:Deutsch,Gratis,Kunst/Kultur,Wien
ATTACH;FMTTYPE=image/jpeg:https://www.strawanzerin.at/wp-content/uploads/2017/05/Cover-Art-sujet.jpeg
ORGANIZER;CN="Kunstraum%20Nestroyhof":MAILTO:office@kunstraum-nestroyhof.at
GEO:48.2144111;16.3850166
X-APPLE-STRUCTURED-LOCATION;VALUE=URI;X-ADDRESS=Kunstraum Nestroyhof Nestroyplatz 1 1020 Wien Wien 1020 Österreich;X-APPLE-RADIUS=500;X-TITLE=Nestroyplatz 1:geo:16.3850166,48.2144111
END:VEVENT
END:VCALENDAR