BEGIN:VCALENDAR
VERSION:2.0
PRODID:-//STRAWANZERIN - ECPv4.9.5//NONSGML v1.0//EN
CALSCALE:GREGORIAN
METHOD:PUBLISH
X-WR-CALNAME:STRAWANZERIN
X-ORIGINAL-URL:https://www.strawanzerin.at
X-WR-CALDESC:Veranstaltungen im STRAWANZERIN
BEGIN:VTIMEZONE
TZID:"Europe/Vienna"
BEGIN:DAYLIGHT
TZOFFSETFROM:+0100
TZOFFSETTO:+0200
TZNAME:CEST
DTSTART:20220327T010000
END:DAYLIGHT
BEGIN:STANDARD
TZOFFSETFROM:+0200
TZOFFSETTO:+0100
TZNAME:CET
DTSTART:20221030T010000
END:STANDARD
END:VTIMEZONE
BEGIN:VEVENT
DTSTART;TZID="Europe/Vienna":20220506T190000
DTEND;TZID="Europe/Vienna":20220507T030000
DTSTAMP:20260422T003540
CREATED:20220502T122901Z
LAST-MODIFIED:20220502T123627Z
UID:84764-1651863600-1651892400@www.strawanzerin.at
SUMMARY:5 WILDE JAHRE WILDE LIGA
DESCRIPTION:Fest mit Buchpräsentation: „Soccer vs The State“ mit Autor Gabriel Kuhn\nPublikumsgespräch 5 Jahre Wilde Liga- Ein reality Check\nLive Musik mit Ruli\n               Fridgebitch and the Drain Society\n               Szene Putzn\nAuflegerei mit: Unrat\n                Tba \n
URL:https://www.strawanzerin.at/termin/5-wilde-jahre-wilde-liga/
LOCATION:»Schöner leben« SchloR – Rappachgasse\, Rappachgasse 26\, Wien\, Wien\, 1110\, Österreich
CATEGORIES:Fest
ORGANIZER;CN="Wilde%20Liga%20Wien":MAILTO:wildeligawien@gmx.at
END:VEVENT
END:VCALENDAR