BEGIN:VCALENDAR
VERSION:2.0
PRODID:-//STRAWANZERIN - ECPv4.9.5//NONSGML v1.0//EN
CALSCALE:GREGORIAN
METHOD:PUBLISH
X-WR-CALNAME:STRAWANZERIN
X-ORIGINAL-URL:https://www.strawanzerin.at
X-WR-CALDESC:Veranstaltungen im STRAWANZERIN
BEGIN:VTIMEZONE
TZID:"Europe/Vienna"
BEGIN:DAYLIGHT
TZOFFSETFROM:+0100
TZOFFSETTO:+0200
TZNAME:CEST
DTSTART:20210328T010000
END:DAYLIGHT
BEGIN:STANDARD
TZOFFSETFROM:+0200
TZOFFSETTO:+0100
TZNAME:CET
DTSTART:20211031T010000
END:STANDARD
END:VTIMEZONE
BEGIN:VEVENT
DTSTART;TZID="Europe/Vienna":20211001T193000
DTEND;TZID="Europe/Vienna":20211001T210000
DTSTAMP:20260422T073448
CREATED:20210908T133747Z
LAST-MODIFIED:20210908T133747Z
UID:80085-1633116600-1633122000@www.strawanzerin.at
SUMMARY:598 neue Nachrichten
DESCRIPTION:Eine Stückentwicklung von Clemens Berndorff\, Wojo van Brouwer\, Katharina Knap\, Jakob Nolte\, Matthias Rippert\, Elisa Seydel & Kajetan Uranitsch \n– Uraufführung \nInszenierung: Matthias Rippert\nBühne: Fabian Liszt\nMusik: Robert Pawliczek\nAutor: Jakob Nolte\nDramaturgie: Angela Heide\nRegieassistenz: Alina Hainig\nMit: Clemens Berndorff\, Wojo van Brouwer\, Katharina Knap\, Elisa Seydel\, Kajetan Uranitsch\nEin Mann kommt vom Einkaufen nach Hause. Er packt die Lebensmittel aus und macht es sich bequem. Den Abend verbringt er allein. Allerdings versuchen vier Personen\, mit ihm in Kontakt zu treten: Freunde\, Familie\, eine Romanze. Sie warten auf Antworten\, aber bekommen keine. Ausgehend von Marco Ferreris Film „Dillinger è morto“ aus dem Jahr 1968\, entwickelt sich ein Geflecht aus Isolation\, Sehnsüchten\, fehlender sozialer Nähe\, der Lust am Alleinsein oder auch eine gesunde Selbstgenügsamkeit. Können wir überhaupt noch für uns sein\, wenn die ganze Welt auf unseren Handys wartet? Fragen\, die uns seit der Verbreitung des Covid-19-Virus im Frühjahr 2020 beschäftigen. Wie verändert sich unsere Kommunikation\, wenn Intimität nicht mehr möglich ist? Welche Rolle spielen elektronische Gadgets\, Messenger-Dienste und die sozialen Medien? Wie reden wir miteinander\, wenn wir schreiben? \nRegisseur Matthias Rippert\, Autor Jakob Nolte und ihr Team haben zu diesen Themen einen performativen Abend entworfen\, der sich auf humorvolle und poetische Art mit den zwischenmenschlichen Folgen der Pandemie auseinandersetzt. \n
URL:https://www.strawanzerin.at/termin/598-neue-nachrichten/2021-10-01/
LOCATION:WERK X\, Oswaldgasse 35A\, Wien\, Wien\, 1120\, Österreich
CATEGORIES:Medien,Theater/Kabarett,Wien
ATTACH;FMTTYPE=image/jpeg:https://www.strawanzerin.at/wp-content/uploads/2021/09/598-neue-Nachrichten-1169765-Alex-Gotter.jpg
ORGANIZER;CN="WERK%20X":MAILTO:buero@werk-x.at
GEO:48.1662859;16.3245824
X-APPLE-STRUCTURED-LOCATION;VALUE=URI;X-ADDRESS=WERK X Oswaldgasse 35A Wien Wien 1120 Österreich;X-APPLE-RADIUS=500;X-TITLE=Oswaldgasse 35A:geo:16.3245824,48.1662859
END:VEVENT
END:VCALENDAR