BEGIN:VCALENDAR
VERSION:2.0
PRODID:-//STRAWANZERIN - ECPv4.9.5//NONSGML v1.0//EN
CALSCALE:GREGORIAN
METHOD:PUBLISH
X-WR-CALNAME:STRAWANZERIN
X-ORIGINAL-URL:https://www.strawanzerin.at
X-WR-CALDESC:Veranstaltungen im STRAWANZERIN
BEGIN:VTIMEZONE
TZID:"Europe/Vienna"
BEGIN:DAYLIGHT
TZOFFSETFROM:+0100
TZOFFSETTO:+0200
TZNAME:CEST
DTSTART:20220327T010000
END:DAYLIGHT
BEGIN:STANDARD
TZOFFSETFROM:+0200
TZOFFSETTO:+0100
TZNAME:CET
DTSTART:20221030T010000
END:STANDARD
END:VTIMEZONE
BEGIN:VEVENT
DTSTART;TZID="Europe/Vienna":20220324T193000
DTEND;TZID="Europe/Vienna":20220324T210000
DTSTAMP:20260421T230441
CREATED:20220228T132831Z
LAST-MODIFIED:20220302T102301Z
UID:82998-1648150200-1648155600@www.strawanzerin.at
SUMMARY:70 Jahre Wolfgang Ambros – 70 Jahre Austropop?
DESCRIPTION:„Anlässlich Ambros“ Geburtstags am 19. März werfen wir einen Blick zurück auf die Höhepunkte einer der Größen Österreichs Pop-Geschichte. Was zeichnet ihn aus\, wer waren seine künstlerischen Wegbegleiter*innen und welche musikalischen Richtungen führten zu dem\, was in den letzten Jahrzehnten als Austropop bezeichnet wird?\nVortrag von Robert Fischer mit Musikbeispielen aus Wolfgang Ambros‘ Schaffen.\nAchtung: Eine Anmeldung ist unbedingt erforderlich!  \n
URL:https://www.strawanzerin.at/termin/70-jahre-wolfgang-ambros-70-jahre-austropop/
LOCATION:VHS Landstraße\, Hainbergerstraße 29\, VHS Landstraße\, Wien\, 1030\, Österreich
CATEGORIES:Vortrag/Symposium
ATTACH;FMTTYPE=image/jpeg:https://www.strawanzerin.at/wp-content/uploads/2022/02/die-wiener-volkshochschulen-quadratisch-10-scaled.jpg
GEO:48.1941134;16.3953555
X-APPLE-STRUCTURED-LOCATION;VALUE=URI;X-ADDRESS=VHS Landstraße Hainbergerstraße 29 VHS Landstraße Wien 1030 Österreich;X-APPLE-RADIUS=500;X-TITLE=Hainbergerstraße 29:geo:16.3953555,48.1941134
END:VEVENT
END:VCALENDAR