BEGIN:VCALENDAR
VERSION:2.0
PRODID:-//STRAWANZERIN - ECPv4.9.5//NONSGML v1.0//EN
CALSCALE:GREGORIAN
METHOD:PUBLISH
X-WR-CALNAME:STRAWANZERIN
X-ORIGINAL-URL:https://www.strawanzerin.at
X-WR-CALDESC:Veranstaltungen im STRAWANZERIN
BEGIN:VTIMEZONE
TZID:"Europe/Vienna"
BEGIN:DAYLIGHT
TZOFFSETFROM:+0100
TZOFFSETTO:+0200
TZNAME:CEST
DTSTART:20170326T010000
END:DAYLIGHT
BEGIN:STANDARD
TZOFFSETFROM:+0200
TZOFFSETTO:+0100
TZNAME:CET
DTSTART:20171029T010000
END:STANDARD
END:VTIMEZONE
BEGIN:VEVENT
DTSTART;TZID="Europe/Vienna":20171007T150000
DTEND;TZID="Europe/Vienna":20171007T163000
DTSTAMP:20260423T162655
CREATED:20170906T082407Z
LAST-MODIFIED:20170906T145010Z
UID:46631-1507388400-1507393800@www.strawanzerin.at
SUMMARY:75 Jahre »Die Schachnovelle« - Lesung aus Stefan Zweigs Klassiker
DESCRIPTION:Anlässlich des 75. Todestages von Stefan Zweig liest Rezitator Gregor Oezelt am Samstag\, 7. Oktober 2017\, um 15 Uhr im Wiener Café Korb eine gekürzte Version von Stefan Zweigs (1881-1942) letztem literarischen Werk\, das gleichzeitig auch das politische Vermächtnis des berühmten österreichischen Schriftstellers ist. Als eine der meist gelesenen Novellen ging es in die Weltliteratur ein\, wurde mittlerweile 1\,2 Millionen Mal verkauft und eroberte sowohl die Filmleinwand als auch die Theaterbühne. Der Eintritt ist kostenlos. Um freiwillige Spenden wird gebeten.  \nSitzplatzreservierung:\nTel.: 0676 7481020  \nDas Foto zeigt Rezitator Gregor Oezelt im Wiener Café Korb.\nFoto/© www.peterberger.at \n
URL:https://www.strawanzerin.at/termin/75-jahre-die-schachnovelle-lesung-aus-stefan-zweigs-klassiker/
CATEGORIES:freie Spende,Literatur,Wien
ATTACH;FMTTYPE=image/jpeg:https://www.strawanzerin.at/wp-content/uploads/2017/09/GregorOezelt_Foto_by_PeterBerger.jpg
END:VEVENT
END:VCALENDAR