BEGIN:VCALENDAR
VERSION:2.0
PRODID:-//STRAWANZERIN - ECPv4.9.5//NONSGML v1.0//EN
CALSCALE:GREGORIAN
METHOD:PUBLISH
X-WR-CALNAME:STRAWANZERIN
X-ORIGINAL-URL:https://www.strawanzerin.at
X-WR-CALDESC:Veranstaltungen im STRAWANZERIN
BEGIN:VTIMEZONE
TZID:"Europe/Vienna"
BEGIN:DAYLIGHT
TZOFFSETFROM:+0100
TZOFFSETTO:+0200
TZNAME:CEST
DTSTART:20200329T010000
END:DAYLIGHT
BEGIN:STANDARD
TZOFFSETFROM:+0200
TZOFFSETTO:+0100
TZNAME:CET
DTSTART:20201025T010000
END:STANDARD
END:VTIMEZONE
BEGIN:VEVENT
DTSTART;TZID="Europe/Vienna":20200918T193000
DTEND;TZID="Europe/Vienna":20200918T213000
DTSTAMP:20260420T152036
CREATED:20200622T161136Z
LAST-MODIFIED:20200622T161136Z
UID:74123-1600457400-1600464600@www.strawanzerin.at
SUMMARY:8. Internationales HIF Biber Festival - "Die Blüte"
DESCRIPTION:8. Internationales Heinrich Ignaz Franz Biber Festival: Regionen Europas\nWien\, 18.-20. September 2020 \nFreitag\, 18. September 2020\, 19:30 Uhr\, Kirche Maria am Gestade\nSalvatorgasse 12\, 1010 Wien \n„Die Blüte”\nMÚSIca ALcheMIca\nLina Tur Bonet\, Violine\nEugène Michelangeli\, Claviorganum \nWerke von H.I.F. Biber\, Georg Muffat\, Antonio Bertali\, Nicola Matteis Jr.\,\nJohann Heinrich Schmelzer \nEintritt:\nEUR 28.- regulär\, EUR 15.- ermäßigt (SchülerInnen\, StudentInnen\, Kulturpass-BesitzerInnen)\nAbendkassa: am Konzerttag ab 18:30 Uhr geöffnet \nReservierung und Information:\npandolfis@gmx.net\, www.pandolfisconsort.at\nTel. +43 6601510450 \nVeranstalter: Pandolfis Consort Wien\, Verein für Alte Musik\nFörderer: WIEN KULTUR \n
URL:https://www.strawanzerin.at/termin/8-internationales-hif-biber-festival-die-bluete/
LOCATION:Kirche Maria am Gestade\, Salvatorgasse 12\, 1010 Wien\, 1010\, Österreich
CATEGORIES:Musik
ATTACH;FMTTYPE=image/jpeg:https://www.strawanzerin.at/wp-content/uploads/2020/06/Foto-Lina-Tur©Pablo-F-Juárez18.09.2020.jpg
ORGANIZER;CN="Pandolfis%20Consort%20Wien":MAILTO:pandolfis@gmx.net
END:VEVENT
END:VCALENDAR