BEGIN:VCALENDAR
VERSION:2.0
PRODID:-//STRAWANZERIN - ECPv4.9.5//NONSGML v1.0//EN
CALSCALE:GREGORIAN
METHOD:PUBLISH
X-WR-CALNAME:STRAWANZERIN
X-ORIGINAL-URL:https://www.strawanzerin.at
X-WR-CALDESC:Veranstaltungen im STRAWANZERIN
BEGIN:VTIMEZONE
TZID:"Europe/Vienna"
BEGIN:DAYLIGHT
TZOFFSETFROM:+0100
TZOFFSETTO:+0200
TZNAME:CEST
DTSTART:20180325T010000
END:DAYLIGHT
BEGIN:STANDARD
TZOFFSETFROM:+0200
TZOFFSETTO:+0100
TZNAME:CET
DTSTART:20181028T010000
END:STANDARD
END:VTIMEZONE
BEGIN:VEVENT
DTSTART;TZID="Europe/Vienna":20180323T200000
DTEND;TZID="Europe/Vienna":20180323T230000
DTSTAMP:20260421T170330
CREATED:20180315T094512Z
LAST-MODIFIED:20180316T102351Z
UID:53518-1521835200-1521846000@www.strawanzerin.at
SUMMARY:80ER JAHRE PARTY
DESCRIPTION:Wir laden euch zu einer Zeitreise der Ultimative ein! \nDu wirst dich wie der Teenager von einst fühlen und einen Abend lang zu Klängen von Depeche Mode\, Police\, Bonnie Tyler \, Dire Straits … über die Tanzfläche heizen! Zwänge dich in die hautengen Jeans der 80er\, suche deine Stulpen und schmiere Pomade in deine Haare und besteige deinen Golf GTI. \nSei so locker wie damals und bring auf alle Fälle die passende Stimmung mit\, für den Rest ist im zur Diskothek umfunktionierten HOB i RAUM gesorgt. \nEinlass: ab 20:00\nEintritt: frei  \n
URL:https://www.strawanzerin.at/termin/80er-jahre-party/
LOCATION:HOB i RAUM\, Hanuschgasse 1\, Bad Vöslau\, Niederösterreich\, 2540
CATEGORIES:freie Spende,Niederösterreich,Tanz
ATTACH;FMTTYPE=image/jpeg:https://www.strawanzerin.at/wp-content/uploads/2018/03/xx.jpg
ORGANIZER;CN="HOB%20i%20RAUM":MAILTO:petra@hobiraum.at
GEO:47.9686941;16.2205195
X-APPLE-STRUCTURED-LOCATION;VALUE=URI;X-ADDRESS=HOB i RAUM Hanuschgasse 1 Bad Vöslau Niederösterreich 2540;X-APPLE-RADIUS=500;X-TITLE=Hanuschgasse 1:geo:16.2205195,47.9686941
END:VEVENT
END:VCALENDAR