BEGIN:VCALENDAR
VERSION:2.0
PRODID:-//STRAWANZERIN - ECPv4.9.5//NONSGML v1.0//EN
CALSCALE:GREGORIAN
METHOD:PUBLISH
X-WR-CALNAME:STRAWANZERIN
X-ORIGINAL-URL:https://www.strawanzerin.at
X-WR-CALDESC:Veranstaltungen im STRAWANZERIN
BEGIN:VTIMEZONE
TZID:"Europe/Vienna"
BEGIN:DAYLIGHT
TZOFFSETFROM:+0100
TZOFFSETTO:+0200
TZNAME:CEST
DTSTART:20210328T010000
END:DAYLIGHT
BEGIN:STANDARD
TZOFFSETFROM:+0200
TZOFFSETTO:+0100
TZNAME:CET
DTSTART:20211031T010000
END:STANDARD
END:VTIMEZONE
BEGIN:VEVENT
DTSTART;TZID="Europe/Vienna":20210714T180000
DTEND;TZID="Europe/Vienna":20210714T183000
DTSTAMP:20260422T145733
CREATED:20210802T112539Z
LAST-MODIFIED:20210818T162346Z
UID:77667-1626285600-1626287400@www.strawanzerin.at
SUMMARY:zart umwickelt
DESCRIPTION:zart umwickelt lässt Tänzer*innen im Umgang mit langen Stoffbahnen skurrile Formen\, fließende Qualitäten und königliche Verspieltheit in die Parks bringen.  \nDie inklusive Tanzperformance im öffentlichen Raum überrascht und berührt sowohl geladenes\, als auch nichts ahnendes Publikum in Parks mit ungewohnten Formen\, strukturierte und improvisierte Bewegungen und durch das königliche\, verspielte Sein im Moment.\nWas macht das Umwickelt-Sein mit dem Wesen unter dem Tuch?\nWie schlüpft etwas aus der Zartheit des Stoffes heraus?\nIst Stoff tanzfähig? Und was\, wenn sich der Wind dreinmischt? \nEin spannender Prozess der Wechselwirkung eröffnet sich mit viel Freiraum für individuelle Interpretation. \n
URL:https://www.strawanzerin.at/termin/__trashed-53/
LOCATION:1200\, Allerheiligenpark\, Allerheiligenpark\, Wien\, 1200\, Österreich
CATEGORIES:Tanz
ATTACH;FMTTYPE=image/png:https://www.strawanzerin.at/wp-content/uploads/2021/06/1200-Wien-2021-RV_V.png
END:VEVENT
END:VCALENDAR