BEGIN:VCALENDAR
VERSION:2.0
PRODID:-//STRAWANZERIN - ECPv4.9.5//NONSGML v1.0//EN
CALSCALE:GREGORIAN
METHOD:PUBLISH
X-WR-CALNAME:STRAWANZERIN
X-ORIGINAL-URL:https://www.strawanzerin.at
X-WR-CALDESC:Veranstaltungen im STRAWANZERIN
BEGIN:VTIMEZONE
TZID:"Europe/Vienna"
BEGIN:DAYLIGHT
TZOFFSETFROM:+0100
TZOFFSETTO:+0200
TZNAME:CEST
DTSTART:20220327T010000
END:DAYLIGHT
BEGIN:STANDARD
TZOFFSETFROM:+0200
TZOFFSETTO:+0100
TZNAME:CET
DTSTART:20221030T010000
END:STANDARD
END:VTIMEZONE
BEGIN:VEVENT
DTSTART;TZID="Europe/Vienna":20220406T193000
DTEND;TZID="Europe/Vienna":20220406T213000
DTSTAMP:20260421T220243
CREATED:20220302T114355Z
LAST-MODIFIED:20220302T114421Z
UID:82963-1649273400-1649280600@www.strawanzerin.at
SUMMARY:AUS DER LUFT GEGRIFFEN oder DIE GESCHÄFTE DES BARON LABORDE
DESCRIPTION:Komödie von Hermann Broch (Der Tod des Vergil) im Theater Spielraum \nGroße Krise\, Existenzen ruiniert\, da hilft nur Selbstmord! Doch wenn der nicht klappt\, wie zu Beginn des Stücks\, kann man danach umso fröhlicher weiterleben – mit den Luftgeschäften des Baron Laborde\, der nicht nur den gebeutelten Banken\, sondern auch der gelangweilten Bankierstochter frisches Leben einhaucht\, ein Hochstapler in Geld- und Gefühlsangelegenheiten…\nDie Österreichische Erstaufführung dieser 1934 geschriebenen\, meisterhaft geistreichen Rarität erfolgte erst 1983. Von 6. bis 30. April 2022 lädt Regisseur Gerhard Werdeker zur Wiederentdeckung in Wien-Neubau. \nVorstellungen:\n6. (Premiere) bis 30. April\, jeweils Mittwoch bis Samstag\, 19.30 Uhr (Hinweis: 22. April geschlossene Vorstellung) \nOrt:\nTheater Spielraum\, Kaiserstraße 46\, 1070 Wien \nKarten:\nTel.: 01 713 04 60 \nBild: Dana Proetsch und Martin Purth in »Aus der Luft gegriffen« im Theater Spielraum\, Foto/© Barbara Pálffy \n
URL:https://www.strawanzerin.at/termin/__trashed-64/2022-04-06/
LOCATION:Theater Spielraum\, Kaiserstraße 46\, Wien\, Wien\, 1070\, Österreich
CATEGORIES:ab 7,Kunst/Kultur,Theater/Kabarett,Wien
ATTACH;FMTTYPE=image/jpeg:https://www.strawanzerin.at/wp-content/uploads/2022/02/keyBroch300-spielraum-900g-Kopie.jpg
GEO:48.2013889;16.3406467
X-APPLE-STRUCTURED-LOCATION;VALUE=URI;X-ADDRESS=Theater Spielraum Kaiserstraße 46 Wien Wien 1070 Österreich;X-APPLE-RADIUS=500;X-TITLE=Kaiserstraße 46:geo:16.3406467,48.2013889
END:VEVENT
END:VCALENDAR