BEGIN:VCALENDAR
VERSION:2.0
PRODID:-//STRAWANZERIN - ECPv4.9.5//NONSGML v1.0//EN
CALSCALE:GREGORIAN
METHOD:PUBLISH
X-WR-CALNAME:STRAWANZERIN
X-ORIGINAL-URL:https://www.strawanzerin.at
X-WR-CALDESC:Veranstaltungen im STRAWANZERIN
BEGIN:VTIMEZONE
TZID:"Europe/Vienna"
BEGIN:DAYLIGHT
TZOFFSETFROM:+0100
TZOFFSETTO:+0200
TZNAME:CEST
DTSTART:20240331T010000
END:DAYLIGHT
BEGIN:STANDARD
TZOFFSETFROM:+0200
TZOFFSETTO:+0100
TZNAME:CET
DTSTART:20241027T010000
END:STANDARD
END:VTIMEZONE
BEGIN:VEVENT
DTSTART;TZID="Europe/Vienna":20240504T193000
DTEND;TZID="Europe/Vienna":20240504T210000
DTSTAMP:20260422T190503
CREATED:20251127T111223Z
LAST-MODIFIED:20251127T111223Z
UID:98064-1714851000-1714856400@www.strawanzerin.at
SUMMARY:ABORTIONStories
DESCRIPTION:Eine Adaption der Graphic Novel „Abortion Tales“ von Beata Rojek und Sonja Sobiech | Eine Produktion von Archivum XX in Kooperation mit Theater am Werk | Inszenierung: Agnieszka Salamon | Uraufführung \nDas hart erkämpfte Recht auf Abtreibung steht auf wackeligen Beinen. Das zeigt sich an vielen Orten dieser Welt\, in einer außerordentlichen Eindrücklichkeit aber in Polen\, wo eines der strengsten Abtreibungsgesetze vorherrscht. In ABORTIONStories begeben sich drei Performer_innen auf die Reise dorthin\, beleuchten eine tabuisierte und schambesetzte Welt\, die neben dem hochgradig politischen Aspekt vor allem eines ist: facettenreicher\, menschlicher und näher als man denkt. \nAusgangspunkt für ABORTIONStories ist der Comic “Abortion Tales” von Beata Rojek und Sonia Sobiech\, der anhand von drei Schicksalen ein vielschichtiges Bild zeichnet und zeigt\, dass Verbote Abtreibungen niemals verhindern\, höchstens die Umstände\, unter welchen sie stattfinden\, verschlimmern. In den drei Kapiteln schlüpfen die Darsteller_innen in unterschiedlichen Rollen und Positionen\, verschneiden die Geschichten mit Zahlen und Fakten\, und machen deutlich\, dass jedweder Extremismus an der Komplexität des Themas vorbeischrammt\, zudem betroffene Frauen mit einem unhaltbaren Stigma versieht und sie unnötig in Gefahr bringt. \n
URL:https://www.strawanzerin.at/termin/abortionstories-3/
LOCATION:Theater am Werk am Petersplatz\, Petersplatz 1\, Wien\, Wien\, 1010\, Österreich
CATEGORIES:Theater/Kabarett,Wien
ATTACH;FMTTYPE=image/jpeg:https://www.strawanzerin.at/wp-content/uploads/2024/04/AbortionStories_c_TaW-1.jpg
ORGANIZER;CN="Theater%20am%20Werk":MAILTO:reservierung@theater-am-werk.at
END:VEVENT
END:VCALENDAR