BEGIN:VCALENDAR
VERSION:2.0
PRODID:-//STRAWANZERIN - ECPv4.9.5//NONSGML v1.0//EN
CALSCALE:GREGORIAN
METHOD:PUBLISH
X-WR-CALNAME:STRAWANZERIN
X-ORIGINAL-URL:https://www.strawanzerin.at
X-WR-CALDESC:Veranstaltungen im STRAWANZERIN
BEGIN:VTIMEZONE
TZID:"Europe/Vienna"
BEGIN:DAYLIGHT
TZOFFSETFROM:+0100
TZOFFSETTO:+0200
TZNAME:CEST
DTSTART:20220327T010000
END:DAYLIGHT
BEGIN:STANDARD
TZOFFSETFROM:+0200
TZOFFSETTO:+0100
TZNAME:CET
DTSTART:20221030T010000
END:STANDARD
END:VTIMEZONE
BEGIN:VEVENT
DTSTART;TZID="Europe/Vienna":20220316T180000
DTEND;TZID="Europe/Vienna":20220316T220000
DTSTAMP:20260421T205442
CREATED:20220303T110432Z
LAST-MODIFIED:20220314T130756Z
UID:83212-1647453600-1647468000@www.strawanzerin.at
SUMMARY:Abrakadabra
DESCRIPTION:Unsichtbar machen\, verloren gehen\, in Luft auflösen\, gestohlen oder von der Erde verschluckt werden\, aus dem Blickfeld entfernen\, untergehen\, verdampfen\, entrinnen\, entweichen\, außer Kraft treten\, verlassen\, sterben. Was nach dem Verschwinden bleibt – 30 Möglichkeiten. \nFotoausstellung mit Schwarz-Weiß-Aufnahmen von Nina Strasser. \nDie Fotos der Ausstellung entstanden in Österreich\, Deutschland\, Polen\, Tschechien und Griechenland. Inspiriert wurde die Serie von Magnum-Fotografin Cristina de Middel. \nVernissage: 16. März 2022\nAusstellung: 18. März bis 27. März 2022\nÖffnungszeiten: Freitag & Samstag & Sonntag 18 – 22 Uhr \nKulturraum Spitzer\nTaborstraße 10\, 1020 Wien \n
URL:https://www.strawanzerin.at/termin/abrakadabra/
LOCATION:Kulturraum Spitzer\, Taborstraße 10 (im Hinterhof)\, Wien\, 1020\, Österreich
CATEGORIES:ab 7,Ausstellung,Gratis,Sonstiges,Wien
ATTACH;FMTTYPE=image/jpeg:https://www.strawanzerin.at/wp-content/uploads/2022/03/025_10-Kopie.jpg
END:VEVENT
END:VCALENDAR