BEGIN:VCALENDAR
VERSION:2.0
PRODID:-//STRAWANZERIN - ECPv4.9.5//NONSGML v1.0//EN
CALSCALE:GREGORIAN
METHOD:PUBLISH
X-WR-CALNAME:STRAWANZERIN
X-ORIGINAL-URL:https://www.strawanzerin.at
X-WR-CALDESC:Veranstaltungen im STRAWANZERIN
BEGIN:VTIMEZONE
TZID:"Europe/Vienna"
BEGIN:DAYLIGHT
TZOFFSETFROM:+0100
TZOFFSETTO:+0200
TZNAME:CEST
DTSTART:20180325T010000
END:DAYLIGHT
BEGIN:STANDARD
TZOFFSETFROM:+0200
TZOFFSETTO:+0100
TZNAME:CET
DTSTART:20181028T010000
END:STANDARD
END:VTIMEZONE
BEGIN:VEVENT
DTSTART;TZID="Europe/Vienna":20181104T180000
DTEND;TZID="Europe/Vienna":20181104T200000
DTSTAMP:20260421T110030
CREATED:20181007T113734Z
LAST-MODIFIED:20181007T113734Z
UID:59395-1541354400-1541361600@www.strawanzerin.at
SUMMARY:„abstrAKTE" zeigt die "Galerie Sandpeck Wien 8"
DESCRIPTION:in der Florianigasse 75\, Ecke Uhlplatz.\nErika Navas präsentiert ihre neue Arbeiten aus der Meisterklasse von Prof.Markus Lüpertz. \nVernissage: Sonntag 4.11.2018 um 18 Uhr\nAusstellung: täglich von 14-19 Uhr bis 9.11.2018\nfreier Eintritt!\nmehr www.sandpeck.com \nAls bildende Künstlerin ist Erika Navas in ihren Arbeiten\, Bewegung\, Licht und Schatten wichtig.\nSie beschäftigt sich hauptsächlich mit dem Akt\, mit oder ohne Modell\, abstrakt in Acryltechnik und Mischtechniken\, aber auch nach Tradition der alten Meister in Öl.\nMit ihren Bildern will sie Geschichten erzählen\, neue Universen schaffen und dem Betrachter Platz für eigene Interpretationen lassen.\nPersönliche Daten der bildenden Künstlerin Erika Navas:\nGeburtsdatum: 17.11.1959\nGeboren in: Mexico City (seit 1965 in Wien)\nStaatsangehörigkeit: Österreich\nSonstiges:\nMitglied der Akademie des Österreichischen\nVÖF Verband Österreichischer Filmausstatter\nwww.filmdesigners.at (Werkverzeichnis)\nGenossenschaftlerin Verwertungsgesellschaft\nder Filmschaffenden VDFS\nDerzeit:\nAtelierstudium bei Prof. Christian Ludwig Attersee\nMeisterklasse bei Prof Markus Lüpertz\, Akad.Bild.Künste\, Kolbermoor\nDer künstlerische Werdegang:\n1974-1980 Lehranstalt für Bekleidungsgewerbe\, Herbststraße\n1975-1980 Lazaretgasse Abendakt bei\nProf. Fritz Martinz\n1980-1982 Hochschule für angewandte Kunst Wonder\, Lagerfeld und Frohner\nseit 1985 selbständige\,\nfreischaffende Kostümbildnerin\n1996 Anerkennung als bildende Künstlerin\ndurch das BMWFK\n1998 Gewerbeschein Kostümverleih\nKOSTÜM Department\nTextilsammlung\n2002 Ausstellung im mex. Kulturinstitut\n„4 ELEMENTE“\n1995-2005 Galeriebetrieb “ ART HAUS“\nSprungbrett für neue Künstlerin\nArtist in Residenz\n2016 Galerie im Zentrum\, Ybbs\nKunstraum 40\, Burgenland\n2017 Galerie Sandpeck Wien 8\nDipl. Ausstellung Prof Attersee\nSchloss Lamberg\, Steyr\nBestattungsmuseeum Wien\,\nDia de los Muertos\n2018 permanente Ausstellung:\nAtelier & Galerie Schulgasse 40\n1180 Wien\nKostümbildnerin bei Film wie Bennys Video\, Hinterholz 8\, Kommissar Rex\,\nJulia und Theaterproduktionen im Volkstheater Wien\, Burgtheater\, Theater in\nder Josefstadt\, Festspiele Reichenau\, … \nAuf Ihr Kommen freuen wir uns! \n
URL:https://www.strawanzerin.at/termin/abstrakte-zeigt-die-galerie-sandpeck-wien-8/2018-11-04/
LOCATION:Galerie Sandpeck Wien 8\, Florianigasse 75\, Wien\, Wien\, 1080\, Österreich
CATEGORIES:Ausstellung,Deutsch,Gratis,Kunst/Kultur,Wien
ATTACH;FMTTYPE=image/jpeg:https://www.strawanzerin.at/wp-content/uploads/2018/10/Navas_1a.jpg
ORGANIZER;CN="Galerie%20Sandpeck%20Wien%208":MAILTO:christiane@sandpeck.com
GEO:48.2119839;16.3409609
X-APPLE-STRUCTURED-LOCATION;VALUE=URI;X-ADDRESS=Galerie Sandpeck Wien 8 Florianigasse 75 Wien Wien 1080 Österreich;X-APPLE-RADIUS=500;X-TITLE=Florianigasse 75:geo:16.3409609,48.2119839
END:VEVENT
END:VCALENDAR