BEGIN:VCALENDAR
VERSION:2.0
PRODID:-//STRAWANZERIN - ECPv4.9.5//NONSGML v1.0//EN
CALSCALE:GREGORIAN
METHOD:PUBLISH
X-WR-CALNAME:STRAWANZERIN
X-ORIGINAL-URL:https://www.strawanzerin.at
X-WR-CALDESC:Veranstaltungen im STRAWANZERIN
BEGIN:VTIMEZONE
TZID:"Europe/Vienna"
BEGIN:DAYLIGHT
TZOFFSETFROM:+0100
TZOFFSETTO:+0200
TZNAME:CEST
DTSTART:20170326T010000
END:DAYLIGHT
BEGIN:STANDARD
TZOFFSETFROM:+0200
TZOFFSETTO:+0100
TZNAME:CET
DTSTART:20171029T010000
END:STANDARD
END:VTIMEZONE
BEGIN:VEVENT
DTSTART;TZID="Europe/Vienna":20171202T120000
DTEND;TZID="Europe/Vienna":20171202T220000
DTSTAMP:20260422T103701
CREATED:20171110T132203Z
LAST-MODIFIED:20171110T132203Z
UID:49156-1512216000-1512252000@www.strawanzerin.at
SUMMARY:Adventfest am Gemeinschaftshof der Kleinen Stadt Farm
DESCRIPTION:Kommet\, ihr Lieben\, zu unserem Adventsfest für Klein und Groß am Gemeinschaftshof der Kleinen Stadt Farm am Naufahrtweg 14 in der schönen Lobau! \nGemeinsam mit euch möchten wir uns einstimmen auf die Weihnachtszeit! Und gleichzeitig möchten wir gemeinsam mit euch den Neubeginn am Gelände des Naufahrteweges 14 und 14a feiern! Denn viele Menschen haben sich nun auf diesem wunderschönen Ort zusammengefunden\, um ihn gemeinsam aus dem Dornröschenschlaf zu holen. Bis zum Adventsfest wird er hellwach sein\, der Ort. Und er wird strahlen und und sich freuen\, dass ihr ihn besucht! \nUnd das wird der Gemeinschaftshof am 2. Dezember zu bieten haben:\n– Buntes Kinderprogramm: Ponyreiten\, Lebkuchenbacken\, Tierführungen\, Bauen eines Riesen-Lebkuchenhauses\, Kinderschminken\, Märchenerzähler Etienne liest stimmungsvolle Geschichten\n– Buntes für den Magen: Köstlichkeiten von vegan bis fleischig und natürlich vorweihnachtliche Heißgetränke mit und ohne Alkohol\n– Buntes zum Verschenken: Adventsmarkt mir allerlei Selbstgemachtem\n– Bunter Ausklang: Das „Advents-Tanzparkett“ lädt zum Bein-und Hüftschwingen mit Livemusik und DJ! \nAchtung – für Waghalsige und Winterfeste: Eisschwimmen im Schillerwasser um 13:00 mit anschließender Schnapsrunde im Zirkuswagen! \nUm eine nachhaltige Adventsstimmung mit nach Hause zu nehmen gibt es auch echte Waldviertler-Christbäume zu erwerben! \n
URL:https://www.strawanzerin.at/termin/adventfest-am-gemeinschaftshof-der-kleinen-stadt-farm/
CATEGORIES:Fest,Flohmarkt,Gratis,Kinderkultur,Musik,Ökologie,Wien
ATTACH;FMTTYPE=image/jpeg:https://www.strawanzerin.at/wp-content/uploads/2017/11/1.jpg
ORGANIZER;CN="Kleine%20Stadt%20Farm":MAILTO:info@nalela.at
END:VEVENT
END:VCALENDAR