BEGIN:VCALENDAR
VERSION:2.0
PRODID:-//STRAWANZERIN - ECPv4.9.5//NONSGML v1.0//EN
CALSCALE:GREGORIAN
METHOD:PUBLISH
X-WR-CALNAME:STRAWANZERIN
X-ORIGINAL-URL:https://www.strawanzerin.at
X-WR-CALDESC:Veranstaltungen im STRAWANZERIN
BEGIN:VTIMEZONE
TZID:"Europe/Vienna"
BEGIN:DAYLIGHT
TZOFFSETFROM:+0100
TZOFFSETTO:+0200
TZNAME:CEST
DTSTART:20170326T010000
END:DAYLIGHT
BEGIN:STANDARD
TZOFFSETFROM:+0200
TZOFFSETTO:+0100
TZNAME:CET
DTSTART:20171029T010000
END:STANDARD
END:VTIMEZONE
BEGIN:VEVENT
DTSTART;TZID="Europe/Vienna":20171202T130000
DTEND;TZID="Europe/Vienna":20171202T180000
DTSTAMP:20260420T131619
CREATED:20171123T130508Z
LAST-MODIFIED:20171123T130533Z
UID:49927-1512219600-1512237600@www.strawanzerin.at
SUMMARY:Adventmarkt Hausleiten
DESCRIPTION:Geschenke und Genussvolles für die Festtage!\n20 Aussteller bieten ihre tollen Produkte an und freuen sich über ihren Besuch. \n
URL:https://www.strawanzerin.at/termin/adventmarkt-hausleiten/2017-12-02/
LOCATION:Tennisverein Hausleiten\, Altbachweg 1\, Hausleiten\, Niederösterreich\, 3464\, Österreich
CATEGORIES:Ausstellung,Gratis,Niederösterreich
ATTACH;FMTTYPE=image/jpeg:https://www.strawanzerin.at/wp-content/uploads/2017/11/Flyer-2017.jpg
GEO:48.3852602;16.10994
X-APPLE-STRUCTURED-LOCATION;VALUE=URI;X-ADDRESS=Tennisverein Hausleiten Altbachweg 1 Hausleiten Niederösterreich 3464 Österreich;X-APPLE-RADIUS=500;X-TITLE=Altbachweg 1:geo:16.10994,48.3852602
END:VEVENT
END:VCALENDAR