BEGIN:VCALENDAR
VERSION:2.0
PRODID:-//STRAWANZERIN - ECPv4.9.5//NONSGML v1.0//EN
CALSCALE:GREGORIAN
METHOD:PUBLISH
X-WR-CALNAME:STRAWANZERIN
X-ORIGINAL-URL:https://www.strawanzerin.at
X-WR-CALDESC:Veranstaltungen im STRAWANZERIN
BEGIN:VTIMEZONE
TZID:"Europe/Vienna"
BEGIN:DAYLIGHT
TZOFFSETFROM:+0100
TZOFFSETTO:+0200
TZNAME:CEST
DTSTART:20220327T010000
END:DAYLIGHT
BEGIN:STANDARD
TZOFFSETFROM:+0200
TZOFFSETTO:+0100
TZNAME:CET
DTSTART:20221030T010000
END:STANDARD
END:VTIMEZONE
BEGIN:VEVENT
DTSTART;TZID="Europe/Vienna":20220406T183000
DTEND;TZID="Europe/Vienna":20220406T210000
DTSTAMP:20260421T135227
CREATED:20220308T132514Z
LAST-MODIFIED:20220314T130555Z
UID:83256-1649269800-1649278800@www.strawanzerin.at
SUMMARY:AEIOU einer lebendigen Zivilgesellschaft
DESCRIPTION:Einblicke in Vereinsarbeit und politische Bewegungen in Österreich gefällig?\nAktivist:innen von Queerbase\, Fridays For Future\, Omas Gegen Rechts\, System Change not Climate Change\, Bureau für Selbstorganisierung und Ni Una Menos (angefragt) sowie Black Voices Matter Bewegung (angefragt) stellen sich euren Fragen zu den Themen: A:ktivismus – E:hrenamt – I:dealismus – O:rganisierung – U:ngehorsam. Ein bewegter Austausch\, partizipative und demokratische Themenauswahl und eine inspirie-rende Fish-Bowl-Diskussion spannen den Bogen des Abends! \n
URL:https://www.strawanzerin.at/termin/aeiou-einer-lebendigen-zivilgesellschaft/
LOCATION:Albert Schweitzer Haus\, Schwarzspanierstrasse 13\, Wien\, Wien\, 1090\, Österreich
CATEGORIES:Antifaschismus,Bildung,Feminismus,Gratis,Ökologie,Queer,Soziale Kämpfe,Wien
ATTACH;FMTTYPE=image/jpeg:https://www.strawanzerin.at/wp-content/uploads/2022/03/AEIOU_Entwurf-finaljpg-scaled.jpg
GEO:48.2165479;16.3568738
X-APPLE-STRUCTURED-LOCATION;VALUE=URI;X-ADDRESS=Albert Schweitzer Haus Schwarzspanierstrasse 13 Wien Wien 1090 Österreich;X-APPLE-RADIUS=500;X-TITLE=Schwarzspanierstrasse 13:geo:16.3568738,48.2165479
END:VEVENT
END:VCALENDAR