BEGIN:VCALENDAR
VERSION:2.0
PRODID:-//STRAWANZERIN - ECPv4.9.5//NONSGML v1.0//EN
CALSCALE:GREGORIAN
METHOD:PUBLISH
X-WR-CALNAME:STRAWANZERIN
X-ORIGINAL-URL:https://www.strawanzerin.at
X-WR-CALDESC:Veranstaltungen im STRAWANZERIN
BEGIN:VTIMEZONE
TZID:"Europe/Helsinki"
BEGIN:DAYLIGHT
TZOFFSETFROM:+0200
TZOFFSETTO:+0300
TZNAME:EEST
DTSTART:20160327T010000
END:DAYLIGHT
BEGIN:STANDARD
TZOFFSETFROM:+0300
TZOFFSETTO:+0200
TZNAME:EET
DTSTART:20161030T010000
END:STANDARD
END:VTIMEZONE
BEGIN:VEVENT
DTSTART;TZID="Europe/Helsinki":20161019T190000
DTEND;TZID="Europe/Helsinki":20161019T210000
DTSTAMP:20260422T090028
CREATED:20160914T092659Z
LAST-MODIFIED:20160919T104341Z
UID:33282-1476903600-1476910800@www.strawanzerin.at
SUMMARY:Afghanistan – Raus aus der Gewalt!
DESCRIPTION:HINTERGRUND \nAfghanistans Bevölkerung gehört zu den jüngsten und am schnellsten wachsenden der Welt. Aufgrund der immer schlechter werdende Sicherheitslage\, ökonomischer und politischer Perspektivenlosigkeit\, schlechter Regierungsführung und dem Wiedererstarken der Taliban und anderer islamistischer Gruppen\, verlassen immer mehr Afghan_innen ihr Land. Laut UNHCR waren 2015 über 2\,7 Millionen Afghan_innen auf der Flucht\, das sind 10% der Einwohner_innen. Somit stellen die Afghan_innen nach den Syrer_innen die zweitgrößte Flüchtlingsgruppe weltweit dar\, wobei sie in Österreich seit 2015 die größte Flüchtlingscommunity bilden: Allein seit Jänner 2015 haben mehr als 34.000 Menschen aus Afghanistan einen Asylantrag in Österreich gestellt. \nInsbesondere die politische Radikalisierung sowie ethnisches und religiöses Sektierertum sind ein zentrales Problem in Afghanistan. Daran haben auch die US-geführte Invasion und der „Krieg gegen den Terror“ als Antwort auf die Anschläge vom 11. September 2001 in New York wenig geändert. Weiterhin sind die schlecht überwachten Religionsschulen (Madrassas) auf beiden Seiten der afghanisch-pakistanischen Grenze ein idealer Nährboden für gewalttätigen Extremismus. Gerade die afghanische Jugend bleibt anfällig für radikale Ideologien. Islamistische Gruppen wie die Taliban\, Hizb-e Islami und in jüngster Zeit auch der sogenannte Islamische Staat (IS)\, haben kein Problem damit\, neue Kämpfer zu rekrutieren. Mit dem Abzug westlicher Kampftruppen aus Afghanistan seit 1. Jänner 2015 hat sich das Kräfteverhältnis zugunsten der Salafist_innen noch einmal verschoben. \nWie kann der Teufelskreis aus Gewalt und Gegengewalt durchbrochen werden? Gibt es Wege aus der Radikalisierung? Was sind die Alternativen zum radikalen Extremismus in Afghanistan? Kann der Einfluss der Madrassas reduziert werden? Welche Möglichkeiten hat die internationale Gemeinschaft? Welche Rolle spielen die Nachbarländer Iran und Pakistan? \nPODIUM \nAntonia Rados\nJournalistin und Autorin\, im Gespräch mit \nHelena Malikyar\nJournalistin und Historikerin\, Kabul\, Afghanistan \nHasibulla Humayoon\nPublizist und Mitbegründer der afghanischen Jugendorganisation 1400\, Kabul\, Afghanistan \nEröffnung: Michael Fanizadeh\, VIDC \nVeranstaltungsprachen: Englisch und Deutsch mit Simultandolmetschung \nAnmeldung an Michael Fanizadeh: fanizadeh@vidc.org \n
URL:https://www.strawanzerin.at/termin/afghanistan-raus-aus-der-gewalt/
CATEGORIES:Deutsch,Gratis,Sonstiges,Vortrag/Symposium,Wien
ATTACH;FMTTYPE=image/jpeg:https://www.strawanzerin.at/wp-content/uploads/2016/09/iStock_IndiaUniform_250.jpg
ORGANIZER;CN="VIDC":MAILTO: office@vidc.org
END:VEVENT
END:VCALENDAR