BEGIN:VCALENDAR
VERSION:2.0
PRODID:-//STRAWANZERIN - ECPv4.9.5//NONSGML v1.0//EN
CALSCALE:GREGORIAN
METHOD:PUBLISH
X-WR-CALNAME:STRAWANZERIN
X-ORIGINAL-URL:https://www.strawanzerin.at
X-WR-CALDESC:Veranstaltungen im STRAWANZERIN
BEGIN:VTIMEZONE
TZID:"Europe/Vienna"
BEGIN:DAYLIGHT
TZOFFSETFROM:+0100
TZOFFSETTO:+0200
TZNAME:CEST
DTSTART:20180325T010000
END:DAYLIGHT
BEGIN:STANDARD
TZOFFSETFROM:+0200
TZOFFSETTO:+0100
TZNAME:CET
DTSTART:20181028T010000
END:STANDARD
END:VTIMEZONE
BEGIN:VEVENT
DTSTART;VALUE=DATE:20181126
DTEND;VALUE=DATE:20181129
DTSTAMP:20260420T074158
CREATED:20181112T110531Z
LAST-MODIFIED:20181115T074225Z
UID:60638-1543204800-1543377599@www.strawanzerin.at
SUMMARY:Afrika Europa. Ungleichheit als Herausforderung
DESCRIPTION:ABENDPROGRAMM\n– Pravin Gordhan\, Südafrika\, Minister für Öffentliche Unternehmen\n– Léo Czajka\, Paris School of Economics\, World Inequality Lab\n– Antonio Teixeira\, Europäische Kommission\,DG for International Cooperation and Development (DEVCO)\, Brüssel \nModeration: Marie-Roger Biloa\nJournalistin\, Africa International Media Group\, Paris \nVeranstaltungssprache: Englisch\nAnmeldung via Mail an bertrams@vidc.org (Lisa Bertrams) \nDiese Abendveranstaltung ist Teil einer KONFERENZ vom 26. bis 27. November 2018. Für das ganze Konferenzprogramm siehe: http://www.vidc.org/themen/afrika/african-european-relations/inequality-a-challenge-for-african-european-cooperation/ \nHINTERGRUND\nGeht es der Wirtschaft gut\, geht es nicht allen gut. Nigeria\, die größte Volkswirtschaft Afrikas\, kann aus hohen Wachstumsraten verweisen\, doch  von 180 Millionen Nigerianer_innen leben heute 112 Millionen Menschen mit weniger als zwei Dollar am Tag. Die fünf reichsten Nigerianer verfügen über ein Vermögen von 30 Milliarden Dollar. \nHinzu kommt die Ungleichheit zwischen den Regionen. Hatte ein_e Westeuropäer_in 1970 durchschnittlich sieben Mal mehr verdient als eine Person in Sub Sahara Afrika\, so sind es heute 11 Mal so viel. Diese Ungleichheit wurde zur zentralen Antriebsfeder für Migration.  \nWie also wirken die Folgen der kolonialen Unterwerfung Afrikas nach? Warum konnte sich Afrika aus seiner Rolle als Rohstofflieferant bis heute nicht befreien und wie sehen die wirtschaftlichen und sozialen Ungleichheiten aus der Geschlechterperspektive aus?  \nParvin Gordhan\, Minister für Öffentliche Unternehmen in Südafrika und einer der Redner_innen des prominent besetzten Panels\, betont: „95% des Vermögens sind in den Händen von  10%  der Bevölkerung“ in Südafrika. Weitere Panellist_innen sind der Ungleichheitsforscher Léo Czajka\, Mitautor des „World Inequality Report“\, und eine Vertreterin der Entwicklungszusammenarbeit der Europäischen Kommission. Moderiert wird die Diskussion von der Journalistin Marie-Roger Biloa (Frankreich/Kamerun).   \nCopyright Veranstaltungsfoto: © Johnny Miller / Unequal Scenes \nKooperation:\nVIDC\, Haus der Europäischen Union\, Sadocc – Southern Africa Documentation and Cooperation Centre\, NorthSouthDialogue of Parliaments\, Radio Afrika TV\, AG Globale Verantwortung \n
URL:https://www.strawanzerin.at/termin/afrika-europa-ungleichheit-als-herausforderung/
LOCATION:Haus der Europäischen Union\, Wipplingerstraße 35\, Wien\, Wien\, 1010\, Österreich
CATEGORIES:Deutsch,Englisch,Gratis,Sonstiges,Soziale Kämpfe,Vortrag/Symposium,Wien
ATTACH;FMTTYPE=image/jpeg:https://www.strawanzerin.at/wp-content/uploads/2018/11/Unequal-Scenes-Print-300dpi-35.jpg
GEO:48.2146888;16.3657984
X-APPLE-STRUCTURED-LOCATION;VALUE=URI;X-ADDRESS=Haus der Europäischen Union Wipplingerstraße 35 Wien Wien 1010 Österreich;X-APPLE-RADIUS=500;X-TITLE=Wipplingerstraße 35:geo:16.3657984,48.2146888
END:VEVENT
END:VCALENDAR