BEGIN:VCALENDAR
VERSION:2.0
PRODID:-//STRAWANZERIN - ECPv4.9.5//NONSGML v1.0//EN
CALSCALE:GREGORIAN
METHOD:PUBLISH
X-WR-CALNAME:STRAWANZERIN
X-ORIGINAL-URL:https://www.strawanzerin.at
X-WR-CALDESC:Veranstaltungen im STRAWANZERIN
BEGIN:VTIMEZONE
TZID:"Europe/Vienna"
BEGIN:DAYLIGHT
TZOFFSETFROM:+0100
TZOFFSETTO:+0200
TZNAME:CEST
DTSTART:20190331T010000
END:DAYLIGHT
BEGIN:STANDARD
TZOFFSETFROM:+0200
TZOFFSETTO:+0100
TZNAME:CET
DTSTART:20191027T010000
END:STANDARD
END:VTIMEZONE
BEGIN:VEVENT
DTSTART;TZID="Europe/Vienna":20191210T190000
DTEND;TZID="Europe/Vienna":20191210T213000
DTSTAMP:20260419T145657
CREATED:20191020T171018Z
LAST-MODIFIED:20191020T171018Z
UID:69726-1576004400-1576013400@www.strawanzerin.at
SUMMARY:Akkordeon Musikverein FORTE - Konzert in Rot-Weiß-Rot
DESCRIPTION:Am 10.12. 2019 findet ein besonderes Konzert des Akkordeon-Musikvereins FORTE statt:\nein Konzert in Rot-Weiß-Rot. Dabei beweist die FORTE einmal mehr\, dass Akkordeonmusik mehr ist als Schunkeln und kollektives Mitklatschen (obwohl wir nichts dagegen haben – wer mitschunkeln und klatschen will\, ist herzlich dazu eingeladen! Auch treffsicheres Mitsingen ist gern erlaubt\, Textkenntnisse sind keine Pflichtvoraussetzung!) \nBei Strauß und Opus\, Joe Zawinul und Udo Jürgens zeigt der Abend viele Zwischentöne\, die Sie vielleicht nicht erwartet hätten. Österreichische Musik ist im Ende ja doch nicht nur Rot-Weiß-Rot\, sondern ziemlich bunt. \nEintritt frei! \nDie FORTE freut sich auf Sie – eine Anmeldung ist nicht notwenig. \nBeginn: 19:00\, eine Pause.\nBarrierefreier Zugang im Haus der Begegnung\, Brigittenau. Raffaelgasse 11-13\, 1200 Wien. \n
URL:https://www.strawanzerin.at/termin/akkordeon-musikverein-forte-konzert-in-rot-weiss-rot/
LOCATION:Haus der Begegnung Brigittenau\, Raffaelgasse 11-13\, Wien\, Wien\, 1200\, Österreich
CATEGORIES:Deutsch,Gratis,Musik,Wien
ATTACH;FMTTYPE=image/jpeg:https://www.strawanzerin.at/wp-content/uploads/2019/10/Winter_2019_Forte_Einladung.jpg
ORGANIZER;CN="Musikverein%20Forte":MAILTO:musikverein.forte@hotmail.com
GEO:48.233385;16.3714912
X-APPLE-STRUCTURED-LOCATION;VALUE=URI;X-ADDRESS=Haus der Begegnung Brigittenau Raffaelgasse 11-13 Wien Wien 1200 Österreich;X-APPLE-RADIUS=500;X-TITLE=Raffaelgasse 11-13:geo:16.3714912,48.233385
END:VEVENT
END:VCALENDAR