BEGIN:VCALENDAR
VERSION:2.0
PRODID:-//STRAWANZERIN - ECPv4.9.5//NONSGML v1.0//EN
CALSCALE:GREGORIAN
METHOD:PUBLISH
X-WR-CALNAME:STRAWANZERIN
X-ORIGINAL-URL:https://www.strawanzerin.at
X-WR-CALDESC:Veranstaltungen im STRAWANZERIN
BEGIN:VTIMEZONE
TZID:"Europe/Vienna"
BEGIN:DAYLIGHT
TZOFFSETFROM:+0100
TZOFFSETTO:+0200
TZNAME:CEST
DTSTART:20230326T010000
END:DAYLIGHT
BEGIN:STANDARD
TZOFFSETFROM:+0200
TZOFFSETTO:+0100
TZNAME:CET
DTSTART:20231029T010000
END:STANDARD
END:VTIMEZONE
BEGIN:VEVENT
DTSTART;TZID="Europe/Vienna":20230806T180000
DTEND;TZID="Europe/Vienna":20230806T213000
DTSTAMP:20260420T213033
CREATED:20230731T150322Z
LAST-MODIFIED:20230731T150322Z
UID:92670-1691344800-1691357400@www.strawanzerin.at
SUMMARY:Aktion für eine Welt ohne Atomwaffen\, ohne Krieg und ohne AKWs
DESCRIPTION:Die Welt ist unsicherer geworden. Nicht nur durch die aktuellen Kriege\, insbesondere den Angriffskrieg Russlands gegen die Ukraine\, sondern durch ständiges Drohen mit und Aufrüsten von Atomwaffen. Neue Atomwaffentypen werden von der NATO (USA) in Europa stationiert\, Russland wird Kernwaffen in Belarus aufstellen\, Nordkorea testet Trägerraketen und die USA stationieren ein Atom-U-Boot mit Nuklearwaffen in Südkorea\, um nur einige Beispiele zu nennen. Leider ist die Bedrohung durch Atomwaffen aktueller denn je. \nDie Wiener Friedensbewegung\, die Hiroshima-Gruppe Wien\, der Österreichische Friedensbewegung\, OMEGA-IPPNW\, der Internationale Versöhnungsbund und andere Friedensgruppen organisieren wieder am Jahrestag des Atombombenabwurfes auf Hiroshima\, Sonntag\, 6. August 2023 um 18:00 Uhr eine Friedensaktion auf dem Wiener Stephansplatz. \nKlaus Bergmaier und Angelika Sacher singen Friedenslieder. Weitere KünstlerInnen wurden angefragt. Da im August die Erste Vorbereitungskonferenz für die Überprüfungskonferenz des Atomwaffensperrvertrages in Wien stattfindet\, werden auch Vertreterinnen und Vertreter der internationalen Friedensbewegung teilnehmen. Heuer sammeln wir zum 25.mal Grußadressen für eine Welt ohne Atomwaffen\, ohne Krieg und ohne AKWs. \n
URL:https://www.strawanzerin.at/termin/aktion-fuer-eine-welt-ohne-atomwaffen-ohne-krieg-und-ohne-akws/
LOCATION:Stephansplatz\, Stephansplatz\, Wien\, Wien\, 1010\, Österreich
CATEGORIES:Gratis
ATTACH;FMTTYPE=image/jpeg:https://www.strawanzerin.at/wp-content/uploads/2023/07/Aug06-2016-995-scaled.jpg
ORGANIZER;CN="Wiener%20Friedensbewegung":MAILTO:pax.vienna@chello.at
GEO:48.2085053;16.374238
X-APPLE-STRUCTURED-LOCATION;VALUE=URI;X-ADDRESS=Stephansplatz Stephansplatz Wien Wien 1010 Österreich;X-APPLE-RADIUS=500;X-TITLE=Stephansplatz:geo:16.374238,48.2085053
END:VEVENT
END:VCALENDAR