BEGIN:VCALENDAR
VERSION:2.0
PRODID:-//STRAWANZERIN - ECPv4.9.5//NONSGML v1.0//EN
CALSCALE:GREGORIAN
METHOD:PUBLISH
X-WR-CALNAME:STRAWANZERIN
X-ORIGINAL-URL:https://www.strawanzerin.at
X-WR-CALDESC:Veranstaltungen im STRAWANZERIN
BEGIN:VTIMEZONE
TZID:"Europe/Vienna"
BEGIN:DAYLIGHT
TZOFFSETFROM:+0100
TZOFFSETTO:+0200
TZNAME:CEST
DTSTART:20250330T010000
END:DAYLIGHT
BEGIN:STANDARD
TZOFFSETFROM:+0200
TZOFFSETTO:+0100
TZNAME:CET
DTSTART:20251026T010000
END:STANDARD
END:VTIMEZONE
BEGIN:VEVENT
DTSTART;TZID="Europe/Vienna":20250321T193000
DTEND;TZID="Europe/Vienna":20250321T210000
DTSTAMP:20260419T172404
CREATED:20250206T124637Z
LAST-MODIFIED:20250206T124637Z
UID:105905-1742585400-1742590800@www.strawanzerin.at
SUMMARY:Albumpräsentation "Ei Gen Klang - Töne und Texte rund ums Oval"
DESCRIPTION:Eine Musiktheaterperformance von und mit: \nJul Dillier (präpariertes Klavier / Texte)\nFlora Geißelbrecht (Bratsche&Stimme / Texte)\nBernhard Hadriga (Gitarre&Elektronik / Videos / Texte) \nWie weit kann man ein Musiktheaterstück über das Ei treiben? Jul Dillier\, Flora Geißelbrecht und Bernhard Hadriga haben sich ein Jahr lang mit dieser Frage beschäftigt.\nDie drei starken SolokünstlerInnen aus den Bereichen Zeitgenössische Musik\, Elektronik\, Jazz und Klangkunst verschmelzen ihre Instrumente Klavier\, Gitarre\, Viola und Stimme zu einem grossen Metainstrument. Dieses führen sie in ebenso entfernte Klangkosmen wie das Ei in ungeahnte Themenkontexte: Die Frage nach Ei als Konsumgut\, aber auch als Symbol und als Silbe. Die Frage nach Mutterschaft und Vaterschaft – Und die Frage: Was wurde zuerst gegessen\, die Henne oder das Ei? Und was hat das alles mit mir zu tun?\nEi im Ohr\, im Blick\, auf der Hand und auf der Zunge. Eine multisensorische Performance\, die das Publikum auf eine emotionale Reise mitnimmt: Von komisch bis kosmisch\, von universell bis tief persönlich. \nDas Album zur Performance „Ei Gen Klang“ erscheint nun beim Wiener Label Jazzwerkstatt Records. \n
URL:https://www.strawanzerin.at/termin/albumpraesentation-ei-gen-klang-toene-und-texte-rund-ums-oval/
LOCATION:ORF Radiokulturhaus\, Studio 3\, Argentinierstraße 30A\, Wien\, Wien\, 1040\, Österreich
CATEGORIES:Deutsch,Feminismus,Gesundheit,Musik,Ökologie,Theater/Kabarett,Wien
ATTACH;FMTTYPE=image/jpeg:https://www.strawanzerin.at/wp-content/uploads/2025/02/1C0A5444_1080.jpg
END:VEVENT
END:VCALENDAR