BEGIN:VCALENDAR
VERSION:2.0
PRODID:-//STRAWANZERIN - ECPv4.9.5//NONSGML v1.0//EN
CALSCALE:GREGORIAN
METHOD:PUBLISH
X-WR-CALNAME:STRAWANZERIN
X-ORIGINAL-URL:https://www.strawanzerin.at
X-WR-CALDESC:Veranstaltungen im STRAWANZERIN
BEGIN:VTIMEZONE
TZID:"Europe/Vienna"
BEGIN:DAYLIGHT
TZOFFSETFROM:+0100
TZOFFSETTO:+0200
TZNAME:CEST
DTSTART:20240331T010000
END:DAYLIGHT
BEGIN:STANDARD
TZOFFSETFROM:+0200
TZOFFSETTO:+0100
TZNAME:CET
DTSTART:20241027T010000
END:STANDARD
END:VTIMEZONE
BEGIN:VEVENT
DTSTART;TZID="Europe/Vienna":20240201T200000
DTEND;TZID="Europe/Vienna":20240201T220000
DTSTAMP:20260421T235928
CREATED:20240129T123554Z
LAST-MODIFIED:20240129T123554Z
UID:96373-1706817600-1706824800@www.strawanzerin.at
SUMMARY:Alex Anders.
DESCRIPTION:Alex Anders. live im Kulturcafé Max!\nStimme\, Resonatorgitarre und schrägsinnige Texte. \n
URL:https://www.strawanzerin.at/termin/alex-anders/
LOCATION:Kulturcafe Max\, Mariengasse 1\, 1170 Wien\, Mariengasse 1\, Wien-Hernals\, Wien\, 1170\, Österreich
CATEGORIES:freie Spende,Musik,Wien
ORGANIZER;CN="CHANGEOVER":MAILTO:office@changeover-online.net
END:VEVENT
END:VCALENDAR