BEGIN:VCALENDAR
VERSION:2.0
PRODID:-//STRAWANZERIN - ECPv4.9.5//NONSGML v1.0//EN
CALSCALE:GREGORIAN
METHOD:PUBLISH
X-WR-CALNAME:STRAWANZERIN
X-ORIGINAL-URL:https://www.strawanzerin.at
X-WR-CALDESC:Veranstaltungen im STRAWANZERIN
BEGIN:VTIMEZONE
TZID:"Europe/Vienna"
BEGIN:DAYLIGHT
TZOFFSETFROM:+0100
TZOFFSETTO:+0200
TZNAME:CEST
DTSTART:20190331T010000
END:DAYLIGHT
BEGIN:STANDARD
TZOFFSETFROM:+0200
TZOFFSETTO:+0100
TZNAME:CET
DTSTART:20191027T010000
END:STANDARD
END:VTIMEZONE
BEGIN:VEVENT
DTSTART;TZID="Europe/Vienna":20190921T200000
DTEND;TZID="Europe/Vienna":20190921T220000
DTSTAMP:20260422T040308
CREATED:20190701T121525Z
LAST-MODIFIED:20190723T095339Z
UID:65970-1569096000-1569103200@www.strawanzerin.at
SUMMARY:ALEXANDER GOEBEL „Rote Lippen“
DESCRIPTION:Eine charmante und humorvolle Verbeugung vor der ewigen Weiblichkeit. Seine persönlichen Erfahrungen mit dem starken Geschlecht der Frauen und ein überraschender Blick auf die großen Frauen der Geschichte: Eva im Paradies\, die Damen im Harem u.v.m.  \nKartenvorverkauf:\nRaiffeisenbank Krems – Bankstelle Mühldorf (Tel. +43 2732/9000-8150) sowie in allen Vorverkaufsstellen von ÖTICKET \n
URL:https://www.strawanzerin.at/termin/alexander-goebel-rote-lippen/
LOCATION:Dorfgemeinschaftshaus Mühldorf\, Bergwerk Straße 1\, Mühldorf\, Niederösterreich\, 3622\, Österreich
CATEGORIES:Theater/Kabarett
ATTACH;FMTTYPE=image/jpeg:https://www.strawanzerin.at/wp-content/uploads/2019/07/alexander-goebel_bild.jpg
ORGANIZER;CN="Marktgemeinde%20M%C3%BChldorf":MAILTO:office@topkulturevents.org
END:VEVENT
END:VCALENDAR