BEGIN:VCALENDAR
VERSION:2.0
PRODID:-//STRAWANZERIN - ECPv4.9.5//NONSGML v1.0//EN
CALSCALE:GREGORIAN
METHOD:PUBLISH
X-WR-CALNAME:STRAWANZERIN
X-ORIGINAL-URL:https://www.strawanzerin.at
X-WR-CALDESC:Veranstaltungen im STRAWANZERIN
BEGIN:VTIMEZONE
TZID:"Europe/Vienna"
BEGIN:DAYLIGHT
TZOFFSETFROM:+0100
TZOFFSETTO:+0200
TZNAME:CEST
DTSTART:20170326T010000
END:DAYLIGHT
BEGIN:STANDARD
TZOFFSETFROM:+0200
TZOFFSETTO:+0100
TZNAME:CET
DTSTART:20171029T010000
END:STANDARD
END:VTIMEZONE
BEGIN:VEVENT
DTSTART;TZID="Europe/Vienna":20171207T190000
DTEND;TZID="Europe/Vienna":20171207T223000
DTSTAMP:20260420T190750
CREATED:20170909T194913Z
LAST-MODIFIED:20170911T105848Z
UID:46732-1512673200-1512685800@www.strawanzerin.at
SUMMARY:ALIEN ATTACK
DESCRIPTION:Alien Attack ist ein Theaterstück über politisches und menschliches Versagen: Ein Flüchtlingsboot läuft in Italien ein\, keiner fühlt sich jedoch zuständig: Die italienische Regierung schiebt die Verantwortung der EU zu- und umgekehrt. Währenddessen sterben hunderte Menschen an Hunger. Kritisch\, vielschichtig\, vielstimmig gestaltet sich dieser Theaterabend\, der sich an Artikeln aus Tageszeitungen orientiert\, Politiker karikiert und collagenhaft mit Sprachmaterial umgeht. \nRegie/ Puppenspiel: Sven Stäcker\nText: Sophie Reyer \n
URL:https://www.strawanzerin.at/termin/alien-attack/
LOCATION:Spektakel Wien\, Hamburgerstraße 14\, 1050\, Wien\, Wien\, 1050\, Österreich
CATEGORIES:Antirassimus,Theater/Kabarett
ATTACH;FMTTYPE=image/jpeg:https://www.strawanzerin.at/wp-content/uploads/2017/09/ild-Alien-Attack1.jpg
ORGANIZER;CN="Fl%C3%BCchtlingsprojekt%20Ute%20Bock":MAILTO:info@fraubock.at
GEO:48.1957049;16.356046
X-APPLE-STRUCTURED-LOCATION;VALUE=URI;X-ADDRESS=Spektakel Wien Hamburgerstraße 14 1050 Wien Wien 1050 Österreich;X-APPLE-RADIUS=500;X-TITLE=Hamburgerstraße 14\, 1050:geo:16.356046,48.1957049
END:VEVENT
END:VCALENDAR