BEGIN:VCALENDAR
VERSION:2.0
PRODID:-//STRAWANZERIN - ECPv4.9.5//NONSGML v1.0//EN
CALSCALE:GREGORIAN
METHOD:PUBLISH
X-WR-CALNAME:STRAWANZERIN
X-ORIGINAL-URL:https://www.strawanzerin.at
X-WR-CALDESC:Veranstaltungen im STRAWANZERIN
BEGIN:VTIMEZONE
TZID:"Europe/Vienna"
BEGIN:DAYLIGHT
TZOFFSETFROM:+0100
TZOFFSETTO:+0200
TZNAME:CEST
DTSTART:20240331T010000
END:DAYLIGHT
BEGIN:STANDARD
TZOFFSETFROM:+0200
TZOFFSETTO:+0100
TZNAME:CET
DTSTART:20241027T010000
END:STANDARD
END:VTIMEZONE
BEGIN:VEVENT
DTSTART;TZID="Europe/Vienna":20240308T193000
DTEND;TZID="Europe/Vienna":20240308T213000
DTSTAMP:20260423T193226
CREATED:20240216T150104Z
LAST-MODIFIED:20240216T150104Z
UID:96773-1709926200-1709933400@www.strawanzerin.at
SUMMARY:All we ever wanted - Female Positions
DESCRIPTION:Eine Veranstaltung vom Verein für gesellschaftspolitische Positionen in Kooperation mit Theater am Werk \nSieben Autorinnen auf einer Bühne\, die ihre Positionen in Form von Analysen\, Erlebnissen\, Erfahrungen\, Sehnsüchten und Veränderungsansätzen wiedergeben. Ihre Erzählungen bilden das Hier und Jetzt aus weiblicher Sicht ab – Blickwinkel zur Verortung von Geschlechtergerechtigkeit\, die keinen Anspruch auf Ausschließlichkeit aber sehr wohl den Anspruch auf ihre Einzigartigkeit stellen. \n[..] er mag das Rascheln nicht. Aber es raschelt.\nUnd raschelt.\nNicht aufgeben. Es raschelt. In vielen Bäumen.\nDer Wind legt sich nicht…\nEs gibt noch viel zu tun.. \n
URL:https://www.strawanzerin.at/termin/all-we-ever-wanted-female-positions/
LOCATION:Theater am Werk im Kabelwerk\, Oswaldgasse 35A\, Wien\, Wien\, 1120\, Österreich
CATEGORIES:Barrierefrei,Feminismus,Kunst/Kultur,Literatur,Wien
ATTACH;FMTTYPE=image/png:https://www.strawanzerin.at/wp-content/uploads/2024/02/All-we-ever-wanted_Female-Positions_c_TaW.png
ORGANIZER;CN="Theater%20am%20Werk":MAILTO:reservierung@theater-am-werk.at
END:VEVENT
END:VCALENDAR