BEGIN:VCALENDAR
VERSION:2.0
PRODID:-//STRAWANZERIN - ECPv4.9.5//NONSGML v1.0//EN
CALSCALE:GREGORIAN
METHOD:PUBLISH
X-WR-CALNAME:STRAWANZERIN
X-ORIGINAL-URL:https://www.strawanzerin.at
X-WR-CALDESC:Veranstaltungen im STRAWANZERIN
BEGIN:VTIMEZONE
TZID:"Europe/Vienna"
BEGIN:DAYLIGHT
TZOFFSETFROM:+0100
TZOFFSETTO:+0200
TZNAME:CEST
DTSTART:20230326T010000
END:DAYLIGHT
BEGIN:STANDARD
TZOFFSETFROM:+0200
TZOFFSETTO:+0100
TZNAME:CET
DTSTART:20231029T010000
END:STANDARD
END:VTIMEZONE
BEGIN:VEVENT
DTSTART;TZID="Europe/Vienna":20230509T200000
DTEND;TZID="Europe/Vienna":20230509T220000
DTSTAMP:20260420T175011
CREATED:20230412T141707Z
LAST-MODIFIED:20230412T141707Z
UID:90602-1683662400-1683669600@www.strawanzerin.at
SUMMARY:»Alle sieben Wellen« in der Komödie am Kai
DESCRIPTION:Daniel Glattauer’s Liebesdialog »Gut gegen Nordwind« geht weiter \nNach zwei erfolgreichen Spielserien von Daniel Glattauer’s »Gut gegen Nordwind« erzählt die neueste Inszenierung der Komödie am Kai\, was aus der zauberhaften E-Mail-Freundschaft von Emmi und Leo geworden ist: Ein Jahr der Schreibpause ließ die Gefühle füreinander erstarken. Die Fortsetzung des Bestseller-Romans ist ein ewiges Hin und Her einer verbotenen Liebe. Emmi ist noch immer verheiratet\, und Leo hat eine Frau getroffen\, die er heiraten will. Sechs Wellen schwappen ans Ufer\, doch werden Emmi und Leo von der siebenten Welle erfasst und einander in der realen Welt begegnen? Mit Anna Sophie Krenn und Anatol Rieger. \nVorstellungen:\n9. Mai bis 24. Juni 2023\, DI bis SA 20 Uhr (Premiere: Donnerstag\, 11. Mai 2023\, 20 Uhr)\n22. bis 26. August 2023\, 20 Uhr\n19. bis 23. September 2023\, 20 Uhr \nInfo:\nTel. 01 533 24 34 \nBild: Anna Sophie Krenn und Anatol Rieger in »Alle sieben Wellen«\, Foto/© Komödie am Kai \n
URL:https://www.strawanzerin.at/termin/alle-sieben-wellen-in-der-komoedie-am-kai/2023-05-09/
LOCATION:Komödie am Kai\, Franz-Josefs-Kai 29\, Wien\, Wien\, 1010\, Österreich
CATEGORIES:ab 7,Theater/Kabarett,Wien
ATTACH;FMTTYPE=image/jpeg:https://www.strawanzerin.at/wp-content/uploads/2023/04/AlleSiebenWellen_KomKai-1.jpeg
GEO:48.2121522;16.3749182
X-APPLE-STRUCTURED-LOCATION;VALUE=URI;X-ADDRESS=Komödie am Kai Franz-Josefs-Kai 29 Wien Wien 1010 Österreich;X-APPLE-RADIUS=500;X-TITLE=Franz-Josefs-Kai 29:geo:16.3749182,48.2121522
END:VEVENT
END:VCALENDAR