BEGIN:VCALENDAR
VERSION:2.0
PRODID:-//STRAWANZERIN - ECPv4.9.5//NONSGML v1.0//EN
CALSCALE:GREGORIAN
METHOD:PUBLISH
X-WR-CALNAME:STRAWANZERIN
X-ORIGINAL-URL:https://www.strawanzerin.at
X-WR-CALDESC:Veranstaltungen im STRAWANZERIN
BEGIN:VTIMEZONE
TZID:"Europe/Vienna"
BEGIN:DAYLIGHT
TZOFFSETFROM:+0100
TZOFFSETTO:+0200
TZNAME:CEST
DTSTART:20190331T010000
END:DAYLIGHT
BEGIN:STANDARD
TZOFFSETFROM:+0200
TZOFFSETTO:+0100
TZNAME:CET
DTSTART:20191027T010000
END:STANDARD
END:VTIMEZONE
BEGIN:VEVENT
DTSTART;TZID="Europe/Vienna":20191206T180000
DTEND;TZID="Europe/Vienna":20191206T210000
DTSTAMP:20260419T145415
CREATED:20191103T155453Z
LAST-MODIFIED:20191113T153440Z
UID:70014-1575655200-1575666000@www.strawanzerin.at
SUMMARY:Alternatives Wienquiz
DESCRIPTION:Quizfans aufgepasst\, es gibt wieder eine Ausgabe des Alternativen Wien-Quiz. Interessantes\, lustiges\, aber auch unnützes Wissen über Wien\, vom Erdmittelalter bis zur Stadtverfassung\, von Wohnen\, Gesundheit\, Migration\, Verkehr\, Klima und Kultur bis zur KPÖ und Volksstimme. Mit neuen und aktualisierten Fragen. Preise zu gewinnen! \n
URL:https://www.strawanzerin.at/termin/alternatives-wienquiz/
LOCATION:1160\, volx-club ottakring\, Familienplatz 6\, Wien\, Österreich
ATTACH;FMTTYPE=image/jpeg:https://www.strawanzerin.at/wp-content/uploads/2019/11/Wienquiz.jpg
ORGANIZER;CN="volx%2Aclub%20ottakring":MAILTO:info@volx-club.at
END:VEVENT
END:VCALENDAR