BEGIN:VCALENDAR
VERSION:2.0
PRODID:-//STRAWANZERIN - ECPv4.9.5//NONSGML v1.0//EN
CALSCALE:GREGORIAN
METHOD:PUBLISH
X-WR-CALNAME:STRAWANZERIN
X-ORIGINAL-URL:https://www.strawanzerin.at
X-WR-CALDESC:Veranstaltungen im STRAWANZERIN
BEGIN:VTIMEZONE
TZID:"Europe/Vienna"
BEGIN:DAYLIGHT
TZOFFSETFROM:+0100
TZOFFSETTO:+0200
TZNAME:CEST
DTSTART:20240331T010000
END:DAYLIGHT
BEGIN:STANDARD
TZOFFSETFROM:+0200
TZOFFSETTO:+0100
TZNAME:CET
DTSTART:20241027T010000
END:STANDARD
END:VTIMEZONE
BEGIN:VEVENT
DTSTART;TZID="Europe/Vienna":20240514T180000
DTEND;TZID="Europe/Vienna":20240514T180000
DTSTAMP:20260421T031414
CREATED:20240425T151150Z
LAST-MODIFIED:20240425T151150Z
UID:98409-1715709600-1715709600@www.strawanzerin.at
SUMMARY:Amazonen 2.0: Brasiliens indigene Frauen im systemischen Widerstand
DESCRIPTION:Vortrag mit Diskussion \nDer Kampf um Mutter Erde ist die Mutter aller Kämpfe – das Konzept des Territoriums bestimmt indigenes Leben. Strukturelle Gewalt von Seiten des Staates\, des Agro-Business und der großen Korporationen\, aber auch das Vordringen der Evangelikalen haben die indigenen Frauen Brasiliens\, die Hüterinnen der Biodiversität\, mobilisiert. Sie entwickeln neue Strategien des Widerstands\, handeln im Kollektiv und besetzen lokale und nationale Machträume. \nVortragende: Silvia Jura\, Kultur- und Sozialanthropologin\, Beraterin für Klimagerechtigkeit beim Klimabündnis Österreich \nModeration: Irmtraud Voglmayr \nDie Veranstaltung ist für Frauen. \n
URL:https://www.strawanzerin.at/termin/amazonen-2-0-brasiliens-indigene-frauen-im-systemischen-widerstand/
LOCATION:Frauenbildungsstätte Frauenhetz\, Untere Weißgerberstraße 41\, Wien\, Wien\, 1030\, Österreich
CATEGORIES:Barrierefrei,Bildung,Deutsch,Feminismus,Gratis,Soziale Kämpfe,Vortrag/Symposium,Wien
GEO:48.2084854;16.3946163
X-APPLE-STRUCTURED-LOCATION;VALUE=URI;X-ADDRESS=Frauenbildungsstätte Frauenhetz Untere Weißgerberstraße 41 Wien Wien 1030 Österreich;X-APPLE-RADIUS=500;X-TITLE=Untere Weißgerberstraße 41:geo:16.3946163,48.2084854
END:VEVENT
END:VCALENDAR